Workbook
Name _Hlk488402888: Search!#REF!
Name _Hlk488403305: Search!#REF!
Name _Hlk488403383: Search!#REF!
Name _Hlk488411397: Search!$A$77

Sheet Content
A1: CONTENT
A3: EXPLANATION OF THE WORKSHEET COLOUR CODE
A4: Worksheet Colour | B4: When should the worksheet be used?
A5: Black | B5: Useful for all stages of TRADE
A6: Green | B6: Terms of Reference
A7: Purple | B7: Review
A8: Yellow | B8: Acquire
A9: Orange | B9: Deploy
A10: Red | B10: Evaluate
A12: EXPLANATION OF THE PURPOSE OF EACH WORKSHEET
A13: Worksheet | B13: Purpose
A14: Content | B14: Content - provides the full name of each worksheet and explains its purpose
A15: Monitor | B15: Project Monitoring - useful for providing an overview of progress across the fives stages and making sure all steps are completed satisfactorily
A16: Findings | B16: Project Findings Form - used to record key information that is found/learnt throughout each stage of the project.
A17: II&BP | B17: Improvement Ideas & Best Practices Form - used to record improvement ideas and best practices throughout each stage of the project
A18: TOR-T | B18: Terms of Reference Tasks - used to plan the benchmarkings tasks/actions for each step of this TRADE stage
A19: TOR | B19: Terms of Reference Form - used to manage the project
A20: SA | B20: Stakeholder Analysis - used to identify the importance of project stakeholders to the project.
A21: ComP | B21: Communications Plan - used to ensure that project stakeholders are fully informed and involved in the project to ensure their understanding and ownership of the resultant best practices
A22: CA | B22: Cost Analysis - used to determine and track actual costs against expected costs.
A23: Review-T | B23: Review Tasks - used to plan the benchmarkings tasks/actions for each step of this TRADE stage
A24: Process | B24: Process Flow Chart - used to convey process flow and information in an organized, efficient, and easily consumed manner.
... A43: Evaluate -T | B43: Evaluate Tasks- used to plan the benchmarkings tasks/actions for each step of this TRADE stage
A45: EXPLANATION OF THE HEADINGS IN THE TRADE TASK WORKSHEETS (TOR-T, RESEARCH-T, ACQUIRE-T, DEPLOY-T, EVALUATE-T)
A46: Heading | B46: How used | C46: Which TRADE Stage is it used?
A47: Steps | B47: Steps from the TRADE process | C47: ALL
A48: Tasks | B48: Enter one of more tasks or actions that need to be undertaken to complete the TRADE step. Insert more rows as necesssary if multiple tasks or actions need to be undertaken. | C48: ALL
A49: Expected Benefits Non - Financial | B49: What are the non-financial benefits from the action? | C49: DEPLOY
A50: Expected Benefits Financial | B50: What are the financial benefits from the action? | C50: DEPLOY
A51: Expected Man Hours | B51: Total of team hours expected to be spent on Task | C51: ALL
A52: Expected Labour Cost | B52: Expected cost of labour for Task. Calculated from Man hours and labour rate | C52: ALL
A53: Expected Expenses Cost | B53: Expected cost of expenses for Task - e.g. travel, consumables, facilitation/consultant fees | C53: ALL
A54: Expected Capital Cost | B54: Expected cost of capital expenditure for Task | C54: ALL
A55: Person that ensures task is completed | B55: Project team member responsible for ensuring Task is completed by due date. This is usually the Team Leader. | C55: ALL
A56: Planned Start Date | B56: Expected date Task will start | C56: ALL
A57: Planned Finish Date | B57: Expected date Task is to be finished by | C57: ALL
... A62: Actual Capital Cost | B62: Actual cost of capital expenditure for the Task | C62: ALL
A64: EXPLANATION OF THE COST ANALYSIS (CA) WORKSHEET FORMULAE
A65: CA Worksheet | B65: Instructions
A66: Changing the hourly labour rate | B66: On the TRADE Cost Analysis (CA) tab, ENTER the standard hourly rate of your benchmarking team members into CELL H3. This will then enable the labour cost to be calculated for each TRADE step in the Task Worksheets

Sheet Monitor
A1: PROJECT MONITORING
A2: Stage | B2: Step | C2: Description | D2: Prompts to ensure you are on track… | E2: Forms/Resources to Assist | F2: Start Date | G2: Finish Date | H2: Completed? Yes/No | I2: Comments or Key Findings
A3: Terms of Reference (plan the project) | B3: 1.1 | C3: Determine area of focus for benchmarking project | D3: Revisit your area of focus. Are you happy with it? If not review. When reviewing the area of focus consider Intel’s “questions to ask before starting a benchmarking study” - refer to training slides.
B4: 1.2 | C4: Develop project brief | D4: Review your project brief. Are you happy with it? If not review.
D5: Transfer the information you already have on your project to the TOR in the TRADE Spreadsheet.
B6: 1.3 | C6: Form project team | D6: Have you clearly identified the members of your team and their team role? Record this information on the TOR
B7: 1.4 | C7: Train project team | D7: Are all your team members trained in benchmarking? If a team member is missing from this workshop how will he/she be trained?
B8: 1.5 | C8: Understand benchmarking code of conduct | D8: Have all team members read and understood the benchmarking code of conduct? If not spend some time doing this now. | E8: TRADE Benchmarking Code of Conduct - Resource Pack
D9: Have all team members signed the Benchmarking Agreement Form? If so tick the relevant box of the TOR. | E9: Benchmarking Agreement Form - Resource
B10: 1.6 | C10: Prepare Terms of Reference | D10: Try and complete the TOR – it can be found in the TRADE Spreadsheet. Indicate which of the following you have completed? Some of these won’t be able to be completed without more planning or research. | E10: TOR Worksheet
D11: Project scope? Have you identified resource and time constraints?
D12: Background?
D13: Project objectives? Are they SMART?
D14: Expected benefits? Financial and non-financial?
D15: Expected costs? Financial and non-financial? It should be possible to estimate the cost of undertaking the benchmarking project once you consider the project’s scope and the work to be undertaken (here you can review the TRADE Spreadsheet and list of steps and think about what tasks need to be undertaken). If an accurate costing is required then all the expected tasks required for the project should be recorded and the associated Analysis Worksheet will automatically provide an overview of the expected resources. | E15: CA Worksheet
D16: However, it is unlikely you will be able to estimate the cost of implementing the best practices as these have not been identified yet.
D17: Project stakeholders? Who has a “stake” or “interest” in the project? Name all stakeholders. Have you completed the SA Worksheet? | E17: SA Worksheet
D18: Task management? Agree to use the TRADE Spreadsheet as the method for allocating tasks within your team. Have a look at the spreadsheet to become familiar with it. It will assist you in developing a plan for the project and monitoring progress. | E18: TOR-T, Review-T, Acquire-T, Deploy-T, Evaluate-T Worksheets
D19: Training requirements? Do members of your team require more specific training? If so what in?
D20: Risk management? What are the major risks that might prevent a successful project? How will these risks be overcome?
D21: Communication plan? How are you going to communicate project progress and with whom and how often? Have you completed the ComP Worksheet? | E21: ComP Worksheet
D22: Change management? This refers to how will changes to the project’s direction or TOR be approved?
D23: Benchmarking Code of Conduct. Have the benchmarking agreement forms been signed? | E23: Benchmarking Agreement Form - Resource Pack
D24: TRADE timeline? Briefly review all the steps of TRADE. Based on this review and your expectations from the project is it possible to develop a rough timeline for the project? For some projects you may wish to delay doing this until after the Review stage of TRADE.
D25: Actual benefits? Financial and non-financial? This cannot be filled in until the end of the project.
D26: Actual costs? Financial and non-financial? This cannot be filled in until the end of the project.
D27: Has your team already come up with some ideas for improvement as a result of developing the TOR. If so, record them in the II&BP Form. This form should be used throughout the project to capture goods ideas as well as best practices learnt from other organisations | E27: II&BP Worksheet
B28: 1.7 | C28: Develop documentation system | D28: Have you decided on the documentation system you will use and how it will be maintained? The TRADE Spreadsheet should be part of your documentation system.
B29: 1.8 | C29: Review Terms of Reference stage | D29: Has the TOR stage been completed to everyone’s satisfaction? | E29: Findings Worksheet
D30: How can the TOR stage be improved?
B31: 1.9 | C31: Obtain approval to start the next stage of TRADE | D31: When will you show the revised TOR to your project sponsor? | E31: TOR Worksheet
A32: Review (review current state) | B32: 2.1 | C32: Understand area of focus to be benchmarked | D32: Does your project team have a good understanding of the area of focus? Can you draw a process flow chart or fishbone diagram to represent your area of focus? Have you undertaken a SWOT or Gap analysis (refer to worksheets)? | E32: Process, SWOT&Fish Worksheets
D33: What research needs to be undertaken to improve your understanding?
B34: 2.2 | C34: Define performance measures | D34: Do you have performance measures in place for the area of focus? If not, develop new measures. | E34: PMR Worksheet, Explanation of Performance Measures - Resource Pack
D35: Complete a Performance Measures Record (PMR) sheet for the measures you will be using.
B36: 2.3 | C36: Identify current performance | D36: What is your current performance? If you do not know when will you be able to obtain this information?
D37: Record current performance in the P Data worksheet for the measures you are using. Most projects have 5 to 10 measures. | E37: P-Data Worksheet
B38: 2.4 | C38: Prioritise and finalise the practices to be benchmarked | D38: Have you broken down the “area of focus” into its component parts and prioritised them? This will help you to know which practices/processes or issues are most important to find best practices for. | E38: Gap Worksheet
B39: 2.5 | C39: Review project progress and TOR | D39: Has the Review stage been completed to everyone’s satisfaction? | E39: Findings Worksheet
D40: How can the Review stage be improved?
...

Sheet Findings
A1: PROJECT FINDINGS FORM
A3: Record what you find/learn as you proceed through the benchmarking project.
A5: Stage | B5: Key Findings/Learning
A6: Terms of Reference | B6: What was found/learnt when completing the TOR? E.g. current challenges/opportunities, strategic priorities, potential benefits etc | C6: Where can more information be found about this? Describe relevant documents/worksheets/reports | D6: Date updated
A11: Review | B11: What was found/learnt about your current processes/systems and performance? Eg. Findings from focus groups, self-assessments, staff surveys, reviewing documentation or other analysis? | C11: Where can more information be found about this? Describe relevant documents/worksheets/reports | D11: Date updated
A16: Acquire | B16: What was found/learnt from your benchmarking partners? Eg. Findings from internet research, benchmarking partner surveys, telephone calls, emails or site visits? | C16: Where can more information be found about this? Describe relevant documents/worksheets/reports | D16: Date updated
A21: Deploy | B21: What was found/learnt from implementation? Eg. Findings from pilot testing, feedback so far from process owners or customers? | C21: Where can more information be found about this? Describe relevant documents/worksheets/reports | D21: Date updated
A26: Evaluate | B26: What was found/learnt from a thorough analysis of project outcomes? Eg. Findings from a cost/benefit analysis,post-project discussion on what went well and could be improved? | C26: Where can more information be found about this? Describe relevant documents/worksheets/reports | D26: Date updated

Sheet II&BP
A1: IMPROVEMENT IDEAS & BEST PRACTICE (II&BP) FORM
A3: Record improvement ideas or best practices that you find as you proceed through the benchmarking project. To assess whether or not to recommend an idea or best practice for implementation you can complete the "Ease of implementation" and "Impact on project aim and objectives" columns. Alternatively you can assess the ideas or best practices through the "Best Practice Selection Matrix", BPSM Worksheet, which enables you to compare the ideas and practices graphically.
E5: Ease of implementation (Consider time, cost feasibility, 5=Very Easy, 4=Relatively Easy, 3=Possible, 2=Difficult, 1=Very Difficult) | F5: Impact on project aim and objectives (5=Major, 4=High 3=Medium, 2=Low, 1=Negligible) | G5: The Ease / Impact Score Column gives a score out of 10 with a higher weighting for "impact" in comparison to "ease". This ratio can be changed dependent on the importance of these criteria to the benchmarking project.
A7: Date | B7: Name of improvement idea and/or best practice | C7: Description (how will such a idea/practice improve on the current situation?) | D7: Expected benefits? | G7: Ease / Impact Score (with Impact given a higher weighting 6:4) | H7: Where/who can provide more information on this idea/practice? Reference any information documents as appropriate. | I7: Should this idea/practice be Parked (P) for later review or Actioned (A) immediately?
G8: =(E8/5*4)+(F8/5*6) -> 0
G9: =(E9/5*4)+(F9/5*6) -> 0
G10: =(E10/5*4)+(F10/5*6) -> 0
G11: =(E11/5*4)+(F11/5*6) -> 0
G12: =(E12/5*4)+(F12/5*6) -> 0
G13: =(E13/5*4)+(F13/5*6) -> 0
G14: =(E14/5*4)+(F14/5*6) -> 0
G15: =(E15/5*4)+(F15/5*6) -> 0
G16: =(E16/5*4)+(F16/5*6) -> 0
G17: =(E17/5*4)+(F17/5*6) -> 0
G18: =(E18/5*4)+(F18/5*6) -> 0
G19: =(E19/5*4)+(F19/5*6) -> 0
... G28: =(E28/5*4)+(F28/5*6) -> 0

Sheet TOR-T
A1: TERMS OF REFERENCE (TOR) - TASKS
A3: Steps | B3: Tasks (what do you need to do to complete the step?) | C3: Person(s) undertaking task? | D3: Expected man hours involved? | E3: Expected Costs | H3: Person that ensures task is completed | I3: Planned Start Date | J3: Planned Finish Date | K3: Actual Finish Date | L3: Actual Benefits obtained | N3: Actual man hours taken? | O3: Actual Costs | R3: Comments or Key Findings
E4: Labour | F4: Expenses | G4: Capital | L4: Non-Financial | M4: Financial | O4: Labour | P4: Expenses | Q4: Capital
A5: 1.1 Determine area of focus for benchmarking project | E5: =D5*CA!$H$3 -> 0 | O5: =N5*CA!$H$3 -> 0
A6: 1.2 Develop project brief | E6: =D6*CA!$H$3 -> 0 | O6: =N6*CA!$H$3 -> 0
A7: 1.3 Form project team | E7: =D7*CA!$H$3 -> 0 | O7: =N7*CA!$H$3 -> 0
A8: 1.4 Train project team | E8: =D8*CA!$H$3 -> 0 | O8: =N8*CA!$H$3 -> 0
A9: 1.5 Understand benchmarking code of conduct | E9: =D9*CA!$H$3 -> 0 | O9: =N9*CA!$H$3 -> 0
A10: 1.6 Prepare Terms of Reference (TOR) | E10: =D10*CA!$H$3 -> 0 | O10: =N10*CA!$H$3 -> 0
A11: 1.7 Develop documentation system | E11: =D11*CA!$H$3 -> 0 | O11: =N11*CA!$H$3 -> 0
A12: 1.8 Review project progress and TOR | E12: =D12*CA!$H$3 -> 0 | O12: =N12*CA!$H$3 -> 0
A13: 1.9 Obtain approval to start the next stage of TRADE | E13: =D13*CA!$H$3 -> 0 | O13: =N13*CA!$H$3 -> 0
A14: TOTALS | D14: =SUM(D5:D13) -> 0 | E14: =SUM(E5:E13) -> 0 | F14: =SUM(F5:F13) -> 0 | G14: =SUM(G5:G13) -> 0 | M14: =SUM(M5:M13) -> 0 | N14: =SUM(N5:N13) -> 0 | O14: =SUM(O5:O13) -> 0 | P14: =SUM(P5:P13) -> 0 | Q14: =SUM(Q5:Q13) -> 0

Sheet TOR
A1: TERMS OF REFERENCE (TOR) FORM
A3: Organisation: | F3: Last Date Revised:
A5: Project Name:
A7: Project Sponsor and Team Members
A8: Name | B8: Position | C8: Telephone | D8: Email | H8: Project Role
H9: Sponsor
H10: Team Leader
H11: Benchmarking Facilitator
H12: Administrator
H13: Team Member
H14: Team Member
H15: Team Member
A17: Document Revision History | I17: Project Sponsor
A18: Version | B18: Date | C18: File name | E18: Revision Notes - Reason for change | I18: Reviewed? Yes/No
A19: 1 | E19: First Draft
A25: Aim Describe the purpose of the project in one sentence e.g. "To identify & implement best practices in X to improve performance from Y to Z"
A27: Scope What Is included & excluded from the project? Clearly define the boundaries of the project & any time-line/resource constraints
A29: Background Why is the project needed? What are the challenges/ opportunities? Who determined the need?
A32: Objectives Include SMART objectives with at least one objective per TRADE stage as well as outcome objectives to be measured in the Evaluate stage
A38: Expected Non-Financial Benefits What problems /challenges/ opportunities and performance levels do you expect improvements in? What are the benefits for your stakeholders? Ideally the benefits should be quantifiable showing current performance (and date measured) and expected future performance (by a stated date). | E38: Expected Financial Benefits For every non-financial benefit there is a potential financial benefit. Financial benefits should be shown as monetary values otherwise include in the non-financial column. Include financial benefits for your stakeholders if relevant.
A45: Expected Cost Completing the cost items in the TRADE-T worksheets will generate a Cost Analysis (CA) worksheet that can assist in estimating the cost items below. | G45: A. Expected Financial Cost (excluding Deploy Stage) | I45: B. Expected Financial Cost of Deploy Stage
A46: Labour - Estimate the number of man hours that need to be invested in the project by your project team and other staff and multiply by an appropriate hourly pay rate
A47: Expenses - Estimate the cost of any incidental/consumable expenses such as food, travel, accommodation, training, consultant fees that may be spent during the project
A48: Capital - Estimate the cost of any equipment/infrastructure items that may need to be purchased. This is usually only applicable for the deploy stage
A49: Column Totals:
A50: Expected Cost (A+B):
A51: Stakeholders List the stakeholder groups that would be interested or impacted by the project | E51: Stakeholder Impact Describe why each stakeholder group would be interested or impacted by the project
A57: Communication Plan How will each group of stakeholders be involved in the project, communicated with & how often?
A58: Task Management How will project tasks be allocated & managed? Indicate if the TRADE Task Worksheets will be used or another method.
A59: Change Management How will changes to the project's purpose or approach be managed so that all stakeholders remain engaged.
A60: Risk Identification Describe the key risks that could delay or reduce the impact of the project? Use the next 3 columns to assess the likelihood of each risk and the potential consequences. | D60: Likelihood (L) High=3 Med=2 Low=1 | E60: Consequence (C) Major=3 Moderate=2 Minor=1 | F60: Risk (LxC) | G60: Risk Management For any risk that scores 3 or above describe how the team will manage or mitigate the risk
A61: 1) | G61: 1)
A62: 2) | G62: 2)
A63: 3) | G63: 3)
A64: 4) | G64: 4)
A65: 5) | G65: 5)
A66: 6) | G66: 6)
A67: 7) | G67: 7)
A68: Training Do team members require any specific training to fulfil this project? Have all team members been trained in benchmarking?
A69: Benchmarking Project Agreement Form Has a benchmarking project agreement form been developed that stipulates adherence to the Benchmarking Code of Conduct and provides ground rules on how the project team should perform its duties? Has it been signed by all team members? Yes/No
...

Sheet SA
A1: STAKEHOLDER ANALYSIS
A3: Stakeholder Analysis is a useful tool for identifying the importance of the stakeholder to the project. This tool should be used in conjunction with the Communication Plan. Normally, the more important the stakeholder the more frequent the communication should be.
A5: Stakeholder Name | B5: Contact Person | C5: Impact | D5: Influence | E5: What is important to the stakeholder? | F5: How could the stakeholder contribute to the project? | G5: How could the stakeholder block the project? | H5: Strategy for engaging the stakeholder
B6: Phone, Email, Website, Address | C6: How much does the project impact them? (Low, Medium, High) | D6: How much influence do they have over the project? (Low, Medium, High)

Sheet ComP
A1: COMMUNICATION PLAN
A3: Record how you will involve your project stakeholders throughout the project
A5: TRADE Stage | B5: Name of stakeholder | C5: What needs to be communicated or discussed? | D5: Why? | E5: Method of communication? Email, meeting, focus group, phone call, meeting etc. | F5: Deliverable? Document, report, TOR, agenda, slides etc. | G5: When or how often? | H5: Responsibility?
A6: Terms of Reference
A7: T
A11: Review
A12: R
A16: Acquire
A17: A
A21: Deploy
A22: D
A26: Evaluate
A27: E

Sheet CA
A1: COST ANALYSIS (CA)
A3: Insert in the following box the average pay of your team members per hour:
A5: TRADE Stage | B5: Variance $ | F5: Expected Costs $ | J5: Actual Costs $ | N5: TOTAL Actual
B6: Man-hours | C6: Labour | D6: Expenses | E6: Capital | F6: Man-hours | G6: Labour | H6: Expenses | I6: Capital | J6: Man-hours | K6: Labour | L6: Expenses | M6: Capital
A7: Terms | B7: =F7-J7 -> 0 | C7: =G7-K7 -> 0 | D7: =H7-L7 -> 0 | E7: =I7-M7 -> 0 | F7: ='TOR-T'!D14 -> 0 | G7: ='TOR-T'!E14 -> 0 | H7: ='TOR-T'!F14 -> 0 | I7: ='TOR-T'!G14 -> 0 | J7: ='TOR-T'!N14 -> 0 | K7: ='TOR-T'!O14 -> 0 | L7: ='TOR-T'!P14 -> 0 | M7: ='TOR-T'!Q14 -> 0 | N7: =SUM(K7:M7) -> 0
A8: Review | B8: =F8-J8 -> 0 | C8: =G8-K8 -> 0 | D8: =H8-L8 -> 0 | E8: =I8-M8 -> 0 | F8: ='Review-T'!D15 -> 0 | G8: ='Review-T'!E15 -> 0 | H8: ='Review-T'!F15 -> 0 | I8: ='Review-T'!G15 -> 0 | J8: ='Review-T'!N15 -> 0 | K8: ='Review-T'!O15 -> 0 | L8: ='Review-T'!P15 -> 0 | M8: ='Review-T'!Q15 -> 0 | N8: =SUM(K8:M8) -> 0
A9: Acquire | B9: =F9-J9 -> 0 | C9: =G9-K9 -> 0 | D9: =H9-L9 -> 0 | E9: =I9-M9 -> 0 | F9: ='Acquire-T'!D17 -> 0 | G9: ='Acquire-T'!E17 -> 0 | H9: ='Acquire-T'!F17 -> 0 | I9: ='Acquire-T'!G17 -> 0 | J9: ='Acquire-T'!N17 -> 0 | K9: ='Acquire-T'!O17 -> 0 | L9: ='Acquire-T'!P17 -> 0 | M9: ='Acquire-T'!Q17 -> 0 | N9: =SUM(K9:M9) -> 0
A10: Deploy | B10: =F10-J10 -> 0 | C10: =G10-K10 -> 0 | D10: =H10-L10 -> 0 | E10: =I10-M10 -> 0 | F10: ='Deploy-T'!D32 -> 0 | G10: ='Deploy-T'!E32 -> 0 | H10: ='Deploy-T'!F32 -> 0 | I10: ='Deploy-T'!G32 -> 0 | J10: ='Deploy-T'!N32 -> 0 | K10: ='Deploy-T'!O32 -> 0 | L10: ='Deploy-T'!P32 -> 0 | M10: ='Deploy-T'!Q32 -> 0 | N10: =SUM(K10:M10) -> 0
A11: Evaluate | B11: =F11-J11 -> 0 | C11: =G11-K11 -> 0 | D11: =H11-L11 -> 0 | E11: =I11-M11 -> 0 | F11: ='Evaluate-T'!D9 -> 0 | G11: ='Evaluate-T'!E9 -> 0 | H11: ='Evaluate-T'!F9 -> 0 | I11: ='Evaluate-T'!G9 -> 0 | J11: ='Evaluate-T'!N9 -> 0 | K11: ='Evaluate-T'!O9 -> 0 | L11: ='Evaluate-T'!P9 -> 0 | M11: ='Evaluate-T'!Q9 -> 0 | N11: =SUM(K11:M11) -> 0
A13: TOTALS | B13: =F13-J13 -> 0 | C13: =G13-K13 -> 0 | D13: =H13-L13 -> 0 | E13: =I13-M13 -> 0 | F13: =SUM(F7:F11) -> 0 | G13: =SUM(G7:G11) -> 0 | H13: =SUM(H7:H11) -> 0 | I13: =SUM(I7:I11) -> 0 | J13: =SUM(J7:J11) -> 0 | K13: =SUM(K7:K11) -> 0 | L13: =SUM(L7:L11) -> 0 | M13: =SUM(M7:M11) -> 0 | N13: =SUM(N7:N11) -> 0
A15: Totals minus | B15: =B13-B10 -> 0 | C15: =C13-C10 -> 0 | D15: =D13-D10 -> 0 | E15: =E13-E10 -> 0 | F15: =F13-F10 -> 0 | G15: =G13-G10 -> 0 | H15: =H13-H10 -> 0 | I15: =I13-I10 -> 0 | ... N15: =N13-N10 -> 0
A16: Deploy

Sheet Review-T
A1: REVIEW - TASKS
A3: Steps | B3: Tasks (what do you need to do to complete the step?) | C3: Person(s) undertaking task? | D3: Expected man hours involved? | E3: Expected Costs | H3: Person that ensures task is completed | I3: Planned Start Date | J3: Planned Finish Date | K3: Actual Finish Date | L3: Actual Benefits obtained | N3: Actual man hours taken? | O3: Actual Costs | R3: Comments or Key Findings
E4: Labour | F4: Expenses | G4: Capital | L4: Non-Financial | M4: Financial | O4: Labour | P4: Expenses | Q4: Capital
A5: 2.1 Understand area of focus to be benchmarked | E5: =D5*CA!$H$3 -> 0 | O5: =N5*CA!$H$3 -> 0
E6: =D6*CA!$H$3 -> 0 | O6: =N6*CA!$H$3 -> 0
E7: =D7*CA!$H$3 -> 0 | O7: =N7*CA!$H$3 -> 0
E8: =D8*CA!$H$3 -> 0 | O8: =N8*CA!$H$3 -> 0
E9: =D9*CA!$H$3 -> 0 | O9: =N9*CA!$H$3 -> 0
A10: 2.2 Define performance measures | E10: =D10*CA!$H$3 -> 0 | O10: =N10*CA!$H$3 -> 0
A11: 2.3 Identify current performance | E11: =D11*CA!$H$3 -> 0 | O11: =N11*CA!$H$3 -> 0
A12: 2.4 Prioritise and finalise the practices to be benchmarked | E12: =D12*CA!$H$3 -> 0 | O12: =N12*CA!$H$3 -> 0
A13: 2.5 Review project progress and TOR | E13: =D13*CA!$H$3 -> 0 | O13: =N13*CA!$H$3 -> 0
A14: 2.6 Obtain approval to start the next stage of TRADE | E14: =D14*CA!$H$3 -> 0 | O14: =N14*CA!$H$3 -> 0
A15: TOTALS | D15: =SUM(D4:D14) -> 0 | E15: =SUM(E4:E14) -> 0 | F15: =SUM(F4:F14) -> 0 | G15: =SUM(G4:G14) -> 0 | M15: =SUM(M4:M14) -> 0 | N15: =SUM(N4:N14) -> 0 | O15: =SUM(O4:O14) -> 0 | P15: =SUM(P4:P14) -> 0 | Q15: =SUM(Q4:Q14) -> 0

Sheet Process
A1: PROCESS FLOW CHART
A3: It is recommended that software such as https://www.lucidchart.com/pages/how-to-make-a-flowchart,
A4: https://products.office.com/en/visio/flowchart-software, http://www.smartdraw.com/ or https://www.draw.io/
A5: is used and the charts are copied into excel. If you prefer to use excel directly some symbols are provided below.
A12: Example

Sheet SWOT
A1: SWOT ANALYSIS
A3: SWOT analysis can be a useful tool for identifying the factors that may hinder or help the achievement of your project aim and assist in further definibg the scope of your project. It is useful for identifying the areas that should be benchmarked. Only accept precise, verifiable statements. Answer the question below before proceeding with the SWOT analysis.
A5: What are you trying to improve? (this should be related to the aim of your project)
B7: INTERNAL FACTORS Consider strengths and weaknesses with respect to your organisation's current approach (for example, these may relate to your services and products, pricing, costs, profitability, performance, quality, people, skills, adaptability, brands, services, reputation, processes and infrastructure).
B8: STRENGTHS What do you do well? What unique resources can you draw on? What do others, such as your stakeholders, see as your strengths? | D8: Rank in IMPORTANCE | E8: WEAKNESSES What could you improve? Where do you have fewer resources than others? What do others, such as your stakeholders, see as your weaknesses? | G8: Rank in IMPORTANCE
B9: 1 | E9: 1
B10: 2 | E10: 2
B11: 3 | E11: 3
B12: 4 | E12: 4
B13: 5 | E13: 5
B14: 6 | E14: 6
B15: 7 | E15: 7
B16: 8 | E16: 8
B17: 9 | E17: 9
B18: 10 | E18: 10
B19: 11 | E19: 11
B20: 12 | E20: 12
... B28: 20 | E28: 20
B30: EXTERNAL FACTORS Consider opportunities and threats with respect to your organisation's current approach (for example, these may relate to changes in markets, competition, lifestyle changes, fashion, seasonality, economics, politics, society, culture, technology, environmental, media and laws).
B31: OPPORTUNITIES What opportunities are open to you? What trends could you take advantage of? How can you turn your strengths into opportunities? | D31: Rank in IMPORTANCE | E31: THREATS What threats could harm you? What trends can negatively affect you? What threats do your weaknesses expose you to? | G31: Rank in IMPORTANCE
B32: 1 | E32: 1
B33: 2 | E33: 2
B34: 3 | E34: 3
B35: 4 | E35: 4
B36: 5 | E36: 5
B37: 6 | E37: 6
B38: 7 | E38: 7
B39: 8 | E39: 8
B40: 9 | E40: 9
B41: 10 | E41: 10
B42: 11 | E42: 11
B43: 12 | E43: 12
... B51: 20 | E51: 20

Sheet Fish
A1: FISHBONE DIAGRAM
A3: The Fishbone Diagram helps to organize ideas and understand the relationship between potential causes and an effect or a problem by formatting, arranging and organizing potential causes into themes and sub-themes. The bones of the fish titled Management, Man, Method, Measurement, Machine and Material can be changed to fit the project.
M5: Name of Category | N5: Name of Cause | O5: Description of how the "Cause" may impact the "Effect"
M6: Management | N6: Cause 1
N7: Cause 2
N8: Cause 3
N9: Cause 4
N10: Cause 5
M11: Man | N11: Cause 1
N12: Cause 2
N13: Cause 3
N14: Cause 4
N15: Cause 5
M16: Method | N16: Cause 1
N17: Cause 2
N18: Cause 3
N19: Cause 4
N20: Cause 5
M21: Measurement | N21: Cause 1
N22: Cause 2
N23: Cause 3
N24: Cause 4
N25: Cause 5
M26: Machine | N26: Cause 1
N27: Cause 2
N28: Cause 3
N29: Cause 4
N30: Cause 5
M31: Material | N31: Cause 1
N32: Cause 2
N33: Cause 3
N34: Cause 4
N35: Cause 5

Sheet PMR
A1: PERFORMANCE MEASURES RECORD (PMR) TABLES
A3: Record here the Performance Measures you will use to assess the success of your project. Complete a new table for each measure.
A5: Performance Measure Record No.1 | F5: Performance Measure Record No.2
A6: Name of measure | F6: Name of measure
A7: Type of measure | F7: Type of measure
A8: Purpose | F8: Purpose
A9: Relates to | F9: Relates to
A10: Current performance | C10: Date measured | F10: Current performance | H10: Date measured
A11: Benchmark (if known) | C11: Date & data source | F11: Benchmark (if known) | H11: Date & data source
A12: Target | C12: Date to achieve by | F12: Target | H12: Date to achieve by
A13: Formula | F13: Formula
A14: Frequency | F14: Frequency
A15: Who measures? | F15: Who measures?
A16: Source of data | F16: Source of data
A17: Who acts on the data? | F17: Who acts on the data?
A18: What do they do? | F18: What do they do?
A20: Notes and comments | F20: Notes and comments
A25: Performance Measure Record No.3 | F25: Performance Measure Record No.4
A26: Name of measure | F26: Name of measure
A27: Type of measure | F27: Type of measure
A28: Purpose | F28: Purpose
A29: Relates to | F29: Relates to
A30: Current performance | C30: Date measured | F30: Current performance | H30: Date measured
A31: Benchmark (if known) | C31: Date & data source | F31: Benchmark (if known) | H31: Date & data source
A32: Target | C32: Date to achieve by | F32: Target | H32: Date to achieve by
A33: Formula | F33: Formula
A34: Frequency | F34: Frequency
A35: Who measures? | F35: Who measures?
A36: Source of data | F36: Source of data
A37: Who acts on the data? | F37: Who acts on the data?
A38: What do they do? | F38: What do they do?
A40: Notes and comments | F40: Notes and comments

Sheet P Data
A1: PERFORMANCE DATA
A3: Record here the performance for each performance measure from the start to the end of the project. The PMR No. should be copied from the PMR worksheet. Performance should be tracked weekly or at least monthly for most measures. The data shown in the tables should be converted to graphs in the P Graphs Worksheet for ease of monitoring.
C5: Record Performance
A6: PMR No. | B6: Name of performance measure | C6: 2020 | D6: 2021 | E6: 1st Quarter | F6: 2nd Quarter | G6: 3rd Quarter | H6: 4th Quarter | I6: January | J6: February | K6: March | L6: April | M6: May | N6: June | O6: July | P6: August | Q6: September | R6: October | S6: November | T6: December | U6: January etc..
A7: 1 | C7: 0 | D7: =AVERAGE(I7:T7) -> #DIV/0! | E7: =AVERAGE(I7:K7) -> #DIV/0! | F7: =AVERAGE(L7:N7) -> #DIV/0! | G7: =AVERAGE(O7:Q7) -> #DIV/0! | H7: =AVERAGE(R7:T7) -> #DIV/0!
A8: 2 | C8: 0 | D8: =AVERAGE(I8:T8) -> #DIV/0! | E8: =AVERAGE(I8:K8) -> #DIV/0! | F8: =AVERAGE(L8:N8) -> #DIV/0! | G8: =AVERAGE(O8:Q8) -> #DIV/0! | H8: =AVERAGE(R8:T8) -> #DIV/0!
A9: 3 | C9: 0 | D9: =AVERAGE(I9:T9) -> #DIV/0! | E9: =AVERAGE(I9:K9) -> #DIV/0! | F9: =AVERAGE(L9:N9) -> #DIV/0! | G9: =AVERAGE(O9:Q9) -> #DIV/0! | H9: =AVERAGE(R9:T9) -> #DIV/0!
A10: 4 | C10: 0 | D10: =AVERAGE(I10:T10) -> #DIV/0! | E10: =AVERAGE(I10:K10) -> #DIV/0! | F10: =AVERAGE(L10:N10) -> #DIV/0! | G10: =AVERAGE(O10:Q10) -> #DIV/0! | H10: =AVERAGE(R10:T10) -> #DIV/0!
A11: 5 | C11: 0 | D11: =AVERAGE(I11:T11) -> #DIV/0! | E11: =AVERAGE(I11:K11) -> #DIV/0! | F11: =AVERAGE(L11:N11) -> #DIV/0! | G11: =AVERAGE(O11:Q11) -> #DIV/0! | H11: =AVERAGE(R11:T11) -> #DIV/0!
A12: 6 | C12: 0 | D12: =AVERAGE(I12:T12) -> #DIV/0! | E12: =AVERAGE(I12:K12) -> #DIV/0! | F12: =AVERAGE(L12:N12) -> #DIV/0! | G12: =AVERAGE(O12:Q12) -> #DIV/0! | H12: =AVERAGE(R12:T12) -> #DIV/0!
A13: 7 | C13: 0 | D13: =AVERAGE(I13:T13) -> #DIV/0! | E13: =AVERAGE(I13:K13) -> #DIV/0! | F13: =AVERAGE(L13:N13) -> #DIV/0! | G13: =AVERAGE(O13:Q13) -> #DIV/0! | H13: =AVERAGE(R13:T13) -> #DIV/0!
A14: 8 | C14: 0 | D14: =AVERAGE(I14:T14) -> #DIV/0! | E14: =AVERAGE(I14:K14) -> #DIV/0! | F14: =AVERAGE(L14:N14) -> #DIV/0! | G14: =AVERAGE(O14:Q14) -> #DIV/0! | H14: =AVERAGE(R14:T14) -> #DIV/0!
A15: 9 | C15: 0 | D15: =AVERAGE(I15:T15) -> #DIV/0! | E15: =AVERAGE(I15:K15) -> #DIV/0! | F15: =AVERAGE(L15:N15) -> #DIV/0! | G15: =AVERAGE(O15:Q15) -> #DIV/0! | H15: =AVERAGE(R15:T15) -> #DIV/0!
A16: 10 | C16: 0 | D16: =AVERAGE(I16:T16) -> #DIV/0! | E16: =AVERAGE(I16:K16) -> #DIV/0! | F16: =AVERAGE(L16:N16) -> #DIV/0! | G16: =AVERAGE(O16:Q16) -> #DIV/0! | H16: =AVERAGE(R16:T16) -> #DIV/0!
B18: Indicate any major event such as start of project, improvements to the process that could affect performance
A20: Example
C21: Record Performance
A22: PMR No. | B22: Name of performance measure | C22: 2019 | D22: 2020 | E22: 1st Quarter | F22: 2nd Quarter | G22: 3rd Quarter | H22: 4th Quarter | I22: January | J22: February | K22: March | L22: April | M22: May | N22: June | O22: July | P22: August | Q22: September | R22: October | S22: November | T22: December | U22: January etc..
A23: 1 | B23: Employee absenteeism | C23: 0.15 | D23: =AVERAGE(I23:T23) -> 0.10833333 | E23: =AVERAGE(I23:K23) -> 0.14666667 | F23: =AVERAGE(L23:N23) -> 0.13333333 | G23: =AVERAGE(O23:Q23) -> 0.096666667 | H23: =AVERAGE(R23:T23) -> 0.056666667 | I23: 0.15 | J23: 0.14 | K23: 0.15 | L23: 0.16 | M23: 0.14 | N23: 0.1 | O23: 0.1 | P23: 0.11 | Q23: 0.08 | R23: 0.08 | S23: 0.05 | T23: 0.04 | U23: 0.04
A24: 2 | B24: Employee satisfaction | C24: 0.64 | D24: =AVERAGE(I24:T24) -> 0.70916667 | E24: =AVERAGE(I24:K24) -> 0.64666667 | F24: =AVERAGE(L24:N24) -> 0.66333333 | G24: =AVERAGE(O24:Q24) -> 0.71666667 | H24: =AVERAGE(R24:T24) -> 0.81 | I24: 0.65 | J24: 0.63 | K24: 0.66 | L24: 0.67 | M24: 0.62 | N24: 0.7 | O24: 0.68 | P24: 0.72 | Q24: 0.75 | R24: 0.78 | S24: 0.82 | T24: 0.83 | U24: 0.82
B26: Indicate any major event such as start of project, improvements to the process that could affect performance | J26: Project start 12/02/2020 | L26: Review stage completed | M26: Quick Wins: Regular staff meetings introduced, Social committee/ events started | N26: Quick Wins: Weekly leaderhip memo introduced to improve communication | O26: Acquire stage completed | P26: Deployment stage started - Phase 1 | S26: Deployment stage started - Phase 2

Sheet P Graphs
A1: PERFORMANCE GRAPHS
A3: The data in the P Data Worksheets shoud be shown as graphs in this worksheet for ease of monitoring.

Sheet Gap 
A1: GAP ANALYSIS - CURRENT VERSUS DESIRED STATE
A3: What is the current and desired state of the opportunity or challenge that is being faced? Analysis techniques such as SWOT/Fishbone should be used to identify the key challenges and prioritise their importance. These can then be transferred to the Gap Analysis Form to specify the current state, desired state and "best practice search" or "action" required to close the gap. If "actions" these should be transferred to the II&BP Form. The themes/pillars of Management, Man, Method, Measurement, Machine and Material can be changed to fit the project and are likely to match those used in the Fishbone diagram or other analysis techniques.
E4: Best Practice Search or Action to Close the Gap (Actions should be copied to the II&BP Form) | F4: Rank the Best Practice Searches in Order of Importance for each theme/pillar
B5: Themes | C5: Current State | D5: Desired State
B6: Management | E6: e.g. "To search for best practices in…."
B13: Man
B20: Method
B27: Measurement
B34: Machine
B41: Material

Sheet Acquire-T
A1: ACQUIRE - TASKS
A3: Steps | B3: Tasks (what do you need to do to complete the step?) | C3: Person(s) undertaking task? | D3: Expected man hours involved? | E3: Expected Costs | H3: Person that ensures task is completed | I3: Planned Start Date | J3: Planned Finish Date | K3: Actual Finish Date | L3: Actual Benefits obtained | N3: Actual man hours taken? | O3: Actual Costs | R3: Comments or Key Findings
E4: Labour | F4: Expenses | G4: Capital | L4: Non-Financial | M4: Financial | O4: Labour | P4: Expenses | Q4: Capital
A5: 3.1 Establish criteria for selecting benchmarking partners | E5: =D5*CA!$H$3 -> 0 | O5: =N5*CA!$H$3 -> 0
A6: 3.2 Select potential benchmarking partners | E6: =D6*CA!$H$3 -> 0 | O6: =N6*CA!$H$3 -> 0
E7: =D7*CA!$H$3 -> 0 | O7: =N7*CA!$H$3 -> 0
E8: =D8*CA!$H$3 -> 0 | O8: =N8*CA!$H$3 -> 0
A9: 3.3 Invite and acquire benchmarking partners | E9: =D9*CA!$H$3 -> 0 | O9: =N9*CA!$H$3 -> 0
E10: =D10*CA!$H$3 -> 0 | O10: =N10*CA!$H$3 -> 0
A11: 3.4 Prepare for data collection | E11: =D11*CA!$H$3 -> 0 | O11: =N11*CA!$H$3 -> 0
A12: 3.5 Collect and store data | E12: =D12*CA!$H$3 -> 0 | O12: =N12*CA!$H$3 -> 0
A13: 3.6 Analyse data | E13: =D13*CA!$H$3 -> 0 | O13: =N13*CA!$H$3 -> 0
A14: 3.7 Formulate recommendations | E14: =D14*CA!$H$3 -> 0 | O14: =N14*CA!$H$3 -> 0
A15: 3.8 Review project progress and TOR | E15: =D15*CA!$H$3 -> 0 | O15: =N15*CA!$H$3 -> 0
A16: 3.9 Obtain approval to start the next stage of TRADE | E16: =D16*CA!$H$3 -> 0 | O16: =N16*CA!$H$3 -> 0
A17: TOTALS | D17: =SUM(D5:D16) -> 0 | E17: =SUM(E5:E16) -> 0 | F17: =SUM(F5:F16) -> 0 | G17: =SUM(G5:G16) -> 0 | M17: =SUM(M7:M16) -> 0 | N17: =SUM(N5:N16) -> 0 | O17: =SUM(O5:O16) -> 0 | P17: =SUM(P5:P16) -> 0 | Q17: =SUM(Q5:Q16) -> 0

Sheet Criteria
A1: BEST PRACTICE SEARCH CRITERIA
A3: Pillars/Themes | B3: Best practice search areas (maximum of 6 areas per pillar, write in a way that they are non-industry specific): | C3: Best practice search questions (industry specific questions may be included if relevant) | D3: Rationale for questions (what is the rationale for asking the question, why is this question important to answer?)
A4: 1. | B4: 1. | C4: 1a)
C5: 1b)
C6: 1c)
C7: 1d)
C8: 1e)
B9: 2. | C9: 2a)
C10: 2b)
C11: 2c)
C12: 2d)
C13: 2e)
B14: 3. | C14: 3a)
C15: 3b)
C16: 3c)
C17: 3d)
C18: 3e)
B19: 4 | C19: 4a)
C20: 4b)
C21: 4c)
C22: 4d)
C23: 4e)
B24: 5 | C24: 5a)
C25: 5b)
C26: 5c)
C27: 5d)
C28: 5e)
B29: 6. | C29: 6a)
C30: 6b)
C31: 6c)
C32: 6d)
C33: 6e)
A34: 2. | B34: 1. | C34: 1a)
C35: 1b)
C36: 1c)
C37: 1d)
C38: 1e)
B39: 2. | C39: 2a)
C40: 2b)
C41: 2c)
...

Sheet Search
A1: BEST PRACTICE SEARCH FORM
A3: The forms have been designed so that you can search for relevant best practice areas (pillars/themes) that you have identified in the Review Stage of TRADE. Within these pillars/themes the priority areas to investigate should have been identified by a Gap Analysis. It is recommended that you have a maximum of 6 searches per pillar/theme and these are broken down further to specify in greater detail the information you are looking for. For an example refer to the TRADE Spreadsheet Example worksheet “Search”. It is probably easier completing the forms in WORD (available in the Training Resource Notes) rather than using the template in the TRADE Spreadsheet. If you use the WORD version, you should copy the final version into the “Search” worksheet or you should indicate in the “Search” worksheet where the WORD version is stored.
A5: Title of project:
A7: Name of Pillar/Theme: | J7: Searching for best practices in these areas (maximum of 6 areas, write in a way that they are non-industry specific): | K7: 1
K8: 2
K9: 3
K10: 4
K11: 5
K12: 6
A15: Search No.1 | D15: Write 1st best practice search here… | J15: Best practice search questions (industry specific questions may be included if relevant) | K15: Break down the 1st best practice search area into more detail here, these can be written as research questions. Example questions:
K16: 1a) Which organisations have achieved performance levels above X?
K17: 1b) How have other organisations implemented Y process effectively?
K18: 1c) What training is required?
K19: 1d) What technology/resources are needed?
K20: 1e) How do other organisations measure their performance in this area?
K22: When answering the above questions, it is important to find examples of organisations that excel (ideally won awards) in these areas.
A24: Source of information/downloads. Describe useful web links and download any files that are useful. Search for useful articles, websites, conferences, and videos. When searching look for award winners or world-class performance (or similar) in the topic area as this may indicate they have a best practice. | I24: Describe why the information is useful? What are the potential best practices or key learning? | K24: If a potential benchmarking partner has been identified provide the name of the contact person, position company, city, country. Contact names may need to be identified from a different source such as Linked-In. Record email or linked in addressed, telephone not as important)
A25: 1a)
A26: Website | C26: Article | F26: Video | K26: Name
A27: Podcast | C27: Conference | F27: Other | K27: Position
A28: Title of source material | K28: Company
A29: Source web-link: | K29: City
A30: Name of downloaded file (KHDA1-Title of doc) | K30: Country
A31: Date of information | K31: Email/
K32: LinkedIn
A33: Name of company the material is from | K33: Telephone
A34: Country the information is from | K34: Comment
A35: Comment
A36: 1b)
A37: Website | C37: Article | F37: Video | K37: Name
A38: Podcast | C38: Conference | F38: Other | K38: Position
A39: Title of source material | K39: Company
A40: Source web-link: | K40: City
A41: Name of downloaded file (KHDA1-Title of doc) | K41: Country
A42: Date of information | K42: Email/
K43: LinkedIn
A44: Name of company the material is from | K44: Telephone
A45: Country the information is from | K45: Comment
A46: 1c)
A47: Website | C47: Article | F47: Video | K47: Name
...

Sheet PST1
A1: PARTNER SELECTION TABLE 1 (PST1) - SIMPLE VERSION
A3: "Best Practice" Selection Criteria (What best practices or performance level do your benchmarking partners need to have in order for you to want to learn from them?) | B3: Rationale for "Best Practice" Selection Criteria (Why is this criteria important?) | D3: Names of organisations to consider as potential partners | E3: Proposed method to learn from benchmarking partner (e.g. site visit, internet research, survey, phone/skype call)
A10: "Other" Selection Criteria (Is there any other criteria that is important when selecting a benchmarking partner such as location, industry, organisational size, culture?) | B10: Rationale for "Other" Selection Criteria (Why is this criteria important?)

Sheet PST2
A1: PARTNER SELECTION TABLE (PST2) - DETAILED VERSION
A3: Name of Potential Benchmarking Partner?
A4: Address of partner?
A5: Name of contact person at partner if known?
A6: Describe the partners’ best practice, if known
A7: Evidence that the partner has good to best practices which are related to the benchmarking area of focus (e.g. evidence from brainstorming, questionnaire, expert opinion?)
A8: What level of performance has the partner achieved, if known?
A9: Other information on the partner?
A10: Pre-Screening Criteria (Pre-Screening criteria that need to be met that are specific to the project)
A11: Description of Criteria | C11: Score (Pass = 1, Fail = 0) | E11: Weighting % | F11: Total
A12: A.
A13: B.
A14: C.
A15: Final Total | F15: =SUM(F12:F14) -> 0
A16: Partner Selection Criteria
A17: Description of Criteria | B17: Rating System | C17: Score | E17: Weighting % | F17: Total
A18: Relationship between benchmarking area of focus and partner’s best practice | B18: Strong = 4, Moderate = 2, Weak/Unknown = 0 | F18: =C18*E18 -> 0
A19: What level of performance has the partner achieved? | B19: World Class/Outstanding = 4, Good/Above Average = 2, Poor/Unknown = 0 | F19: =C19*E19 -> 0
A20: Evidence of good to best practices
A21: Is the evidence from multiple sources? | B21: Multiple sources = 4, Two sources = 2, One source = 0 | F21: =D21*E21 -> 0
A23: Is the evidence reliable? | B23: Very reliable = 4, Moderately reliable = 2, Unknown = 0 | F23: =D23*E23 -> 0
A25: How recent is the evidence? | B25: One year = 4, One to five years = 2, More than five years = 0 | F25: =C25*E25 -> 0
A26: Location of partner | B26: Local = 4, National = 2, International = 0 | F26: =C26*E26 -> 0
A27: Likelihood to participate? | B27: Strong = 4, Moderate = 2, Weak/Unknown = 0 | F27: =C27*E27 -> 0
A28: Organisational Profile?
A29: Number of Employees? | B29: A = 1000 or more, B = 500 to 999, C = 100 to 499, D = 20 to 99, E = 1-19.
A30: Industrial Sector? | B30: A = Manufacturing focused B = Service focused
A31: Competitor? | B31: Y = Yes N = No
E32: Total Score | F32: =SUM(F21:F27)+F18+F19 -> 0

Sheet PCD
A1: PARTNER CONTACT DETAILS (PCD)
A3: Organisation Name | B3: Contact person | C3: Phone | D3: email | E3: Date of site visit (and/or conference call) | F3: Comments

Sheet Q
A1: QUESTIONS FOR BENCHMARKING PARTNERS TABLE
A3: Key questions to ask benchmarking partners should be prepared in advance and answers to the questions recorded in writing (and recorded if permission is given) at the benchmarking visit.
A5: No. | B5: Key questions (What are the key questions you wish to ask?) | C5: Sub questions (Can the key questions be broken down further?) | D5: Evidence/ documentation to see? | E5: Person to see? | F5: Answers to questions/findings

Sheet BPR
A1: BENCHMARKING PARTNER REPORT
A3: After a visit or meeting with a benchmarking partner the key information learnt should be documented. Consideration should be given as to whether or not the practices observed would be useful to implement.
A6: Organization visited
A7: Date of visit
A8: Visit details (who was seen, agenda of visit) | E8: Key for "Type of Initiative/Practice"
A9: Background information on the organisation and relevant practices, systems and processes | E9: New Initiative/Practice = Identification of a possible new initiative/practice that our organisation does not have
E10: Superior Initiative/Practice = Identification of a superior or enhanced approach/method that will improve our current initiative/practice,
E11: Less Mature Initiative/Practice = A weaker or less mature approach/method that will not improve our current initiative/practice
A12: General overview of the success of the visit and key learning
A13: Title of Initiative/Best Practice that was observed | C13: Description of initiative/best practice observed | F13: Type of Initiative/Practice (New, Superior, Less) | G13: Can it be adapted for use in our organisation? | H13: Actions to be taken to transfer ideas into a practical solution | I13: Other comments
A14: 1
A15: 2
A16: 3
A17: 4
A18: 5
A19: 6
A20: 7
A21: 8
A22: 9
A23: 10

Sheet BPSM
A1: BEST PRACTICE SELECTION MATRIX
A3: The Best Practice Selection Matrix can be used after a benchmarking visit or any best practice learning to assess and select potential initiatives, practices or actions for implementation. The Ease / Impact Score Column gives a score out of 10 with a higher weighting for "impact" in comparison to "ease". This ratio can be changed dependent on the importance of these criteria to the benchmarking project.
A5: # | B5: Title of Initiative/Best Practice | C5: Ease of implementation (Consider time, cost feasibility, 5=Very Easy, 4=Relatively Easy, 3=Possible, 2=Difficult, 1=Very Difficult) | D5: Impact on project aim and objectives (5=Major, 4=High 4=Medium, 2=Low, 1=Negligible) | E5: Ease / Impact Score (with Impact given a higher weighting 6:4)
A6: 1 | B6: Example A | C6: 3 | D6: 4 | E6: =(C6/5*4)+(D6/5*6) -> 7.2
A7: 2 | B7: Example B | C7: 2 | D7: 5 | E7: =(C7/5*4)+(D7/5*6) -> 7.6
A8: 3 | B8: Example C | C8: 2 | D8: 3 | E8: =(C8/5*4)+(D8/5*6) -> 5.2
A9: 4 | B9: Example D | C9: 4 | D9: 1 | E9: =(C9/5*4)+(D9/5*6) -> 4.4
A10: 5 | B10: Example E | C10: 2 | D10: 2 | E10: =(C10/5*4)+(D10/5*6) -> 4
A11: 6 | B11: Example F | C11: 4 | D11: 5 | E11: =(C11/5*4)+(D11/5*6) -> 9.2
A12: 7 | B12: Example G | C12: 5 | D12: 4 | E12: =(C12/5*4)+(D12/5*6) -> 8.8
A13: 8 | E13: =(C13*0.8)+D13 -> 0
A14: 9 | E14: =(C14*0.8)+D14 -> 0
A15: 10 | E15: =(C15*0.8)+D15 -> 0
A16: 11 | E16: =(C16*0.8)+D16 -> 0
A17: 12 | E17: =(C17*0.8)+D17 -> 0
A18: 13 | E18: =(C18*0.8)+D18 -> 0
A19: 14 | E19: =(C19*0.8)+D19 -> 0
A20: 15 | E20: =(C20*0.8)+D20 -> 0

Sheet Deploy-T
A1: DEPLOY - TASKS
A3: Steps | B3: Tasks (what do you need to do to complete the step?) | C3: Person(s) undertaking task? | D3: Expected man hours involved? | E3: Expected Costs | H3: Expected Non-Financial Benefits | I3: Expected Financial Benefits | J3: Person that ensures task is completed | K3: Planned Start Date | L3: Planned Finish Date | M3: Actual Finish Date | N3: Actual man hours taken? | O3: Actual Costs | R3: Comments or Key Findings
E4: Labour | F4: Expenses | G4: Capital | H4: Expected Non-Financial Benefits | O4: Labour | P4: Expenses | Q4: Capital
A5: 4.1 Communicate findings | E5: =D5*CA!$B$3 -> 0 | O5: =N5*CA!$B$3 -> 0
A6: 4.2 Develop action plan | E6: =D6*CA!$B$3 -> 0 | O6: =N6*CA!$B$3 -> 0
E7: =D7*CA!$B$3 -> 0 | O7: =N7*CA!$B$3 -> 0
E8: =D8*CA!$B$3 -> 0 | O8: =N8*CA!$B$3 -> 0
E9: =D9*CA!$B$3 -> 0 | O9: =N9*CA!$B$3 -> 0
A10: 4.3 Obtain approval for action plan | E10: =D10*CA!$B$3 -> 0 | O10: =N10*CA!$B$3 -> 0
A12: 4.4 Implement actions | E12: =D12*CA!$H$3 -> 0 | O12: =N12*CA!$H$3 -> 0
E13: =D13*CA!$H$3 -> 0 | O13: =N13*CA!$H$3 -> 0
E14: =D14*CA!$H$3 -> 0 | O14: =N14*CA!$H$3 -> 0
E15: =D15*CA!$H$3 -> 0 | O15: =N15*CA!$H$3 -> 0
E16: =D16*CA!$H$3 -> 0 | O16: =N16*CA!$H$3 -> 0
E17: =D17*CA!$H$3 -> 0 | O17: =N17*CA!$H$3 -> 0
E18: =D18*CA!$H$3 -> 0 | O18: =N18*CA!$H$3 -> 0
E19: =D19*CA!$H$3 -> 0 | O19: =N19*CA!$H$3 -> 0
E20: =D20*CA!$H$3 -> 0 | O20: =N20*CA!$H$3 -> 0
E21: =D21*CA!$H$3 -> 0 | O21: =N21*CA!$H$3 -> 0
E22: =D22*CA!$H$3 -> 0 | O22: =N22*CA!$H$3 -> 0
E23: =D23*CA!$H$3 -> 0 | O23: =N23*CA!$H$3 -> 0
E24: =D24*CA!$H$3 -> 0 | O24: =N24*CA!$H$3 -> 0
... E29: =D29*CA!$H$3 -> 0 | O29: =N29*CA!$H$3 -> 0
A30: 4.5 Review project progress and TOR | E30: =D30*CA!$H$3 -> 0 | O30: =N30*CA!$H$3 -> 0
A31: 4.6 Obtain approval to start the next stage of TRADE | E31: =D31*CA!$H$3 -> 0 | O31: =N31*CA!$H$3 -> 0
A32: TOTALS | D32: =SUM(D5:D31) -> 0 | E32: =SUM(E5:E31) -> 0 | F32: =SUM(F5:F31) -> 0 | G32: =SUM(G5:G31) -> 0 | N32: =SUM(N5:N31) -> 0 | O32: =SUM(O5:O31) -> 0 | P32: =SUM(P5:P31) -> 0 | Q32: =SUM(Q5:Q31) -> 0

Sheet MP
A1: MASTER PLAN FOR BEST PRACTICES
A3: This form should describe all the distinct best practices/ideas that have been selected for implementation as a result of undertaking the benchmarking project.
A4: For each of these a detailed plan for implementation should be developed on the Action Plan (AP) Worksheet with the appropriate Reference Number used.
A6: Date Master Plan Approved:
A8: Approval (Team Leader): Approval (Sponsor):
A10: Reference Number | B10: Description of best practice/idea to implement | C10: Expected benefits? (Financial and non-financial) | D10: Resource required? (consumables/capital equipment ($) + people (man days)) | E10: Describe risks & how they will be managed? | F10: Name of person leading the project? | G10: Start date | H10: Finish date | I10: Approval to implement? | J10: Notes
I11: Yes / No
A12: 1
A13: 2
A14: 3
A15: 4
A16: 5
A17: 6
A18: 7
A19: 8
A20: 9
A21: 10

Sheet AP
A1: ACTION PLAN
A3: This form should describe in detail how each proposed best practice/idea will be implemented. Therefore the steps required, resources and responsibilities.
A4: A separate Action Plan should be completed for each best practice/idea that has been referenced on the Master Plan (MP) Worksheet
A6: Name of best practice/idea to implement:
A8: Person Responsible for Overseeing the Action Plan: Reference Number (from MP Worksheet):
A10: Step Number | B10: Describe Activities / Steps | C10: Start date | D10: Finish date | E10: Resource required? (consumables / capital equipment ($) + people (man days)) | F10: Completed? Yes /No | G10: Comments | H10: Person responsible?
A13: 1
A14: 2
A15: 3
A16: 4
A17: 5
A18: 6
A19: 7
A20: 8
A21: 9
A22: 10
D23: Total
B25: Evaluate success of implementation | D25: Resource used? (consumables / capital equipment ($) + people (man days))
D26: Benefits achieved? (Financial and Non-Financial)

Sheet Evaluate-T
A1: EVALUATE - TASKS
A3: Steps | B3: Tasks (what do you need to do to complete the step?) | C3: Person(s) undertaking task? | D3: Expected man hours involved? | E3: Expected Costs | H3: Person that ensures task is completed | I3: Planned Start Date | J3: Planned Finish Date | K3: Actual Finish Date | L3: Actual Benefits obtained | N3: Actual man hours taken? | O3: Actual Costs | R3: Comments or Key Findings
E4: Labour | F4: Expenses | G4: Capital | L4: Non-Financial | M4: Financial | O4: Labour | P4: Expenses | Q4: Capital
A5: 5.1 Perform cost /benefit analysis | E5: =D5*CA!$H$3 -> 0 | O5: =N5*CA!$H$3 -> 0
A6: 5.2 Review TRADE project | E6: =D6*CA!$H$3 -> 0 | O6: =N6*CA!$H$3 -> 0
A7: 5.3 Share experiences and project outcomes | E7: =D7*CA!$H$3 -> 0 | O7: =N7*CA!$H$3 -> 0
A8: 5.4 Close project | E8: =D8*CA!$B$3 -> 0 | O8: =N8*CA!$H$3 -> 0
A9: TOTALS | D9: =SUM(D5:D8) -> 0 | E9: =SUM(E5:E8) -> 0 | F9: =SUM(F5:F8) -> 0 | G9: =SUM(G5:G8) -> 0 | N9: =SUM(N5:N8) -> 0 | O9: =SUM(O5:O8) -> 0 | P9: =SUM(P5:P8) -> 0 | Q9: =SUM(Q5:Q8) -> 0
