Workbook
Name _Hlk488402888: Search1!$A$10
Name _Hlk488403305: Search1!$A$36
Name _Hlk488403383: Search1!$A$34
Name _Hlk488411397: Search1!$A$96
Name OLE_LINK1: Search1!$A$1
Name أنواع_المبادرات: #REF!

Sheet Content
A1: CONTENT
A3: EXPLANATION OF THE WORKSHEET COLOUR CODE
A4: Worksheet Colour | B4: When should the worksheet be used?
A5: Black | B5: Useful for all stages of TRADE
A6: Green | B6: Terms of Reference
A7: Purple | B7: Review
A8: Yellow | B8: Acquire
A9: Orange | B9: Deploy
A10: Red | B10: Evaluate
A12: EXPLANATION OF THE PURPOSE OF EACH WORKSHEET
A13: Worksheet | B13: Purpose
A14: Content | B14: Content - provides the full name of each worksheet and explains its purpose
A15: Monitor | B15: Project Monitoring - useful for providing an overview of progress across the fives stages and making sure all steps are completed satisfactorily
A16: Findings | B16: Project Findings Form - used to record key information that is found/learnt throughout each stage of the project.
A17: II&BP | B17: Improvement Ideas & Best Practices Form - used to record improvement ideas and best practices throughout each stage of the project
A18: TOR-T | B18: Terms of Reference Tasks - used to plan the benchmarkings tasks/actions for each step of this TRADE stage
A19: TOR | B19: Terms of Reference Form - used to manage the project
A20: SA | B20: Stakeholder Analysis - used to identify the importance of project stakeholders to the project.
A21: ComP | B21: Communications Plan - used to ensure that project stakeholders are fully informed and involved in the project to ensure their understanding and ownership of the resultant best practices
A22: CA | B22: Cost Analysis - used to determine and track actual costs against expected costs.
A23: Review-T | B23: Review Tasks - used to plan the benchmarkings tasks/actions for each step of this TRADE stage
A24: Process | B24: Process Flow Chart - used to convey process flow and information in an organized, efficient, and easily consumed manner.
... A42: Evaluate -T | B42: Evaluate Tasks- used to plan the benchmarkings tasks/actions for each step of this TRADE stage
A44: EXPLANATION OF THE HEADINGS IN THE TRADE TASK WORKSHEETS (TOR-T, RESEARCH-T, ACQUIRE-T, DEPLOY-T, EVALUATE-T)
A45: Heading | B45: How used | C45: Which TRADE Stage is it used?
A46: Steps | B46: Steps from the TRADE process | C46: ALL
A47: Tasks | B47: Enter one of more tasks or actions that need to be undertaken to complete the TRADE step. Insert more rows as necesssary if multiple tasks or actions need to be undertaken. | C47: ALL
A48: Expected Benefits Non - Financial | B48: What are the non-financial benefits from the action? | C48: DEPLOY
A49: Expected Benefits Financial | B49: What are the financial benefits from the action? | C49: DEPLOY
A50: Expected Man Hours | B50: Total of team hours expected to be spent on Task | C50: ALL
A51: Expected Labour Cost | B51: Expected cost of labour for Task. Calculated from Man hours and labour rate | C51: ALL
A52: Expected Expenses Cost | B52: Expected cost of expenses for Task - e.g. travel, consumables, facilitation/consultant fees | C52: ALL
A53: Expected Capital Cost | B53: Expected cost of capital expenditure for Task | C53: ALL
A54: Person that ensures task is completed | B54: Project team member responsible for ensuring Task is completed by due date. This is usually the Team Leader. | C54: ALL
A55: Planned Start Date | B55: Expected date Task will start | C55: ALL
A56: Planned Finish Date | B56: Expected date Task is to be finished by | C56: ALL
... A61: Actual Capital Cost | B61: Actual cost of capital expenditure for the Task | C61: ALL
A63: EXPLANATION OF THE COST ANALYSIS (CA) WORKSHEET FORMULAE
A64: CA Worksheet | B64: Instructions
A65: Changing the hourly labour rate | B65: On the TRADE Cost Analysis (CA) tab, ENTER the standard hourly rate of your benchmarking team members into CELL H3. This will then enable the labour cost to be calculated for each TRADE step in the Task Worksheets

Sheet Monitor
A1: PROJECT MONITORING
A2: Stage | B2: Step | C2: Description | D2: Prompts to ensure you are on track… | E2: Forms/Resources to Assist | F2: Start Date | G2: Finish Date | H2: Completed? Yes/No | I2: Comments or Key Findings
A3: Terms of Reference (plan the project) | B3: 1.1 | C3: Determine area of focus for benchmarking project | D3: Revisit your area of focus. Are you happy with it? If not review. When reviewing the area of focus consider Intel’s “questions to ask before starting a benchmarking study” - refer to training slides.
B4: 1.2 | C4: Develop project brief | D4: Review your project brief. Are you happy with it? If not review.
D5: Transfer the information you already have on your project to the TOR in the TRADE Spreadsheet.
B6: 1.3 | C6: Form project team | D6: Have you clearly identified the members of your team and their team role? Record this information on the TOR
B7: 1.4 | C7: Train project team | D7: Are all your team members trained in benchmarking? If a team member is missing from this workshop how will he/she be trained?
B8: 1.5 | C8: Understand benchmarking code of conduct | D8: Have all team members read and understood the benchmarking code of conduct? If not spend some time doing this now. | E8: TRADE Benchmarking Code of Conduct - Resource Pack
D9: Have all team members signed the Benchmarking Agreement Form? If so tick the relevant box of the TOR. | E9: Benchmarking Agreement Form - Resource
B10: 1.6 | C10: Prepare Terms of Reference | D10: Try and complete the TOR – it can be found in the TRADE Spreadsheet. Indicate which of the following you have completed? Some of these won’t be able to be completed without more planning or research. | E10: TOR Worksheet
D11: Project scope? Have you identified resource and time constraints?
D12: Background?
D13: Project objectives? Are they SMART?
D14: Expected benefits? Financial and non-financial?
D15: Expected costs? Financial and non-financial? It should be possible to estimate the cost of undertaking the benchmarking project once you consider the project’s scope and the work to be undertaken (here you can review the TRADE Spreadsheet and list of steps and think about what tasks need to be undertaken). If an accurate costing is required then all the expected tasks required for the project should be recorded and the associated Analysis Worksheet will automatically provide an overview of the expected resources. | E15: CA Worksheet
D16: However, it is unlikely you will be able to estimate the cost of implementing the best practices as these have not been identified yet.
D17: Project stakeholders? Who has a “stake” or “interest” in the project? Name all stakeholders. Have you completed the SA Worksheet? | E17: SA Worksheet
D18: Task management? Agree to use the TRADE Spreadsheet as the method for allocating tasks within your team. Have a look at the spreadsheet to become familiar with it. It will assist you in developing a plan for the project and monitoring progress. | E18: TOR-T, Review-T, Acquire-T, Deploy-T, Evaluate-T Worksheets
D19: Training requirements? Do members of your team require more specific training? If so what in?
D20: Risk management? What are the major risks that might prevent a successful project? How will these risks be overcome?
D21: Communication plan? How are you going to communicate project progress and with whom and how often? Have you completed the ComP Worksheet? | E21: ComP Worksheet
D22: Change management? This refers to how will changes to the project’s direction or TOR be approved?
D23: Benchmarking Code of Conduct. Have the benchmarking agreement forms been signed? | E23: Benchmarking Agreement Form - Resource Pack
D24: TRADE timeline? Briefly review all the steps of TRADE. Based on this review and your expectations from the project is it possible to develop a rough timeline for the project? For some projects you may wish to delay doing this until after the Review stage of TRADE.
D25: Actual benefits? Financial and non-financial? This cannot be filled in until the end of the project.
D26: Actual costs? Financial and non-financial? This cannot be filled in until the end of the project.
D27: Has your team already come up with some ideas for improvement as a result of developing the TOR. If so, record them in the II&BP Form. This form should be used throughout the project to capture goods ideas as well as best practices learnt from other organisations | E27: II&BP Worksheet
B28: 1.7 | C28: Develop documentation system | D28: Have you decided on the documentation system you will use and how it will be maintained? The TRADE Spreadsheet should be part of your documentation system.
B29: 1.8 | C29: Review Terms of Reference stage | D29: Has the TOR stage been completed to everyone’s satisfaction? | E29: Findings Worksheet
D30: How can the TOR stage be improved?
B31: 1.9 | C31: Obtain approval to start the next stage of TRADE | D31: When will you show the revised TOR to your project sponsor? | E31: TOR Worksheet
A32: Review (review current state) | B32: 2.1 | C32: Understand area of focus to be benchmarked | D32: Does your project team have a good understanding of the area of focus? Can you draw a process flow chart or fishbone diagram to represent your area of focus? Have you undertaken a SWOT or Gap analysis (refer to worksheets)? | E32: Process, SWOT&Fish Worksheets
D33: What research needs to be undertaken to improve your understanding?
B34: 2.2 | C34: Define performance measures | D34: Do you have performance measures in place for the area of focus? If not, develop new measures. | E34: PMR Worksheet, Explanation of Performance Measures - Resource Pack
D35: Complete a Performance Measures Record (PMR) sheet for the measures you will be using.
B36: 2.3 | C36: Identify current performance | D36: What is your current performance? If you do not know when will you be able to obtain this information?
D37: Record current performance in the P Data worksheet for the measures you are using. Most projects have 5 to 10 measures. | E37: P-Data Worksheet
B38: 2.4 | C38: Prioritise and finalise the practices to be benchmarked | D38: Have you broken down the “area of focus” into its component parts and prioritised them? This will help you to know which practices/processes or issues are most important to find best practices for. | E38: Gap Worksheet
B39: 2.5 | C39: Review project progress and TOR | D39: Has the Review stage been completed to everyone’s satisfaction? | E39: Findings Worksheet
D40: How can the Review stage be improved?
...

Sheet Findings
A1: Project Findings form for a project on People Happiness
A3: Record what you find/learn as you proceed through the benchmarking project.
A5: Stage | B5: Key Findings/Learning
A6: Terms of Reference | B6: What was found/learnt when completing the TOR? E.g. current challenges/opportunities, strategic priorities, potential benefits etc | C6: Where can more information be found about this? Describe relevant documents/worksheets/reports | D6: Date updated
B7: The team initially faced a challenge to define Happiness and set clear objectives, benefits and targets. The TOR has been updated few times during the project, when areas of strengths and improvements need were clear to the team. | C7: Refer to Corporate Strategic Plan and TRADE spreadsheet | D7: 43948
A11: Review | B11: What was found/learnt about your current processes/systems and performance? Eg. Findings from focus groups, self-assessments, staff surveys, reviewing documentation or other analysis? | C11: Where can more information be found about this? Describe relevant documents/worksheets/reports | D11: Date updated
B12: The happiness at work survey conducted on Jun-17, Dec-17, June-18 shows that: - Organizational pride, 'Societal benefits', 'Job security' have been since the beginning top scoring aspects of happiness at work - Stress at work is a major area for improvement - Relationships, Work environment, Trust, Work-life balance have already improved between 10-15% since the first happiness @ work survey - New initiatives related to people happiness shall consider DSIB team, and Engagement team that are scoring lower than other team in the happiness @ work survey | C12: Happiness at work survey analysis Refer to Happiness_at_work_analysis.pdf | D12: 44005
B14: Existing documentation related to benchmarking visits, training, conferences, initiatives related to people happiness and wellbeing have been collected across all the departments | C14: Refer to: Happiness & Wellbeing Report.pdf Wellbeing Stats.xlsx
A16: Acquire | B16: What was found/learnt from your benchmarking partners? Eg. Findings from internet research, benchmarking partner surveys, telephone calls, emails or site visits? | C16: Where can more information be found about this? Describe relevant documents/worksheets/reports | D16: Date updated
B17: During the benchmarking visits we have acquired best practices related to: - workplace environment - workplace culture - stress reduction - physical wellbeing - work-life blend (balance) - emotional hygiene - employee engagement - creativity and innovation - organization governance - community engagement - positive education, students wellbeing | C17: - US West Coast benchmarking visits: Refer to Benchmarking visit evaluation - US West Coast.xlsx - Orange Frog benchmarking: Refer to Benchmarking visit evaluation - Orange Frog.xlsx - DHL benchmarking visit: Refer to Benchmarking visit evaluation - DHL.xlsx - Word Economic Forum web research: Refer to Economic_Forum_findings.pptx - Says Web Research: Refer to Benchmarking research evaluation - Says.xlsx - Mindvalley Web Research: Refer to Benchmarking research evaluation - Mindvalley.xlsx - Desktop Research from L. Bell Refer to Best Practices Search Form by L. Bell.docx - Desktop Research from J. Kelly Refer to Best Practices Search Form by J. Kelly.docx | D17: 44097
A21: Deploy | B21: What was found/learnt from implementation? Eg. Findings from pilot testing, feedback so far from process owners or customers? | C21: Where can more information be found about this? Describe relevant documents/worksheets/reports | D21: Date updated
B22: INITIATIVES IMPACTING OUR STAKEHOLDERS | D22: 44155
B23: School of Hearts | C23: Link to media coverage of interventions related to positive education, happiness and wellbeing (including School of Hearts and Healthy and Happy school award) Refer to Happiness and Wellbeing Media Coverage.docx
C24: Following a benchmarking visit at WestEd California, The organisation has partnered with the US research organization to launch the first ever survey to measure students’ happiness at schools and to conduct workshops to acquire strategies for effective action plans to improve the school climate. (Dec 2020)
C25: Refer to: School of Hearts Sample survey.xlsx School of Hearts report.pdf
B26: Healthy & Happy School Award | C26: School competition promoted by a cross-governmental team to raise awareness about the importance of happiness and wellbeing among school staff, students and their families. (Oct 2020) Participation: 28 private schools have applied to the awards submitting details about their best practices to related to physical, mental and social wellbeing for students and school staff. Summary of best practices inside schools, refer to: Happy Schools.pdf
B27: Saturday Clubs | C27: The Saturday Club is an informal educational programme inspired by the UK’s National Art & Design Saturday Club that brings teenagers from across schools together with social entrepreneurs to make the world better and happier. Students get to attend themed workshop related to wellbeing, creativity & design, entrepreneurship and technology and through design thinking students have to come up with future solutions for the world’s current issues. Participation: more than 100 students from 40 private schools in Dubai More info: Saturday Clubs.pdf
B29: INITIATIVES IMPACTING THE EMPLOYEES
B30: Holacracy | C30: Holacracy is an organizational governance developed by HolacracyOne that removes power from a management hierarchy and distributes it across clear roles. The work can then be executed autonomously, without micromanagement. Holocracy is under implementation, 2 batches of employees have already been trained by HolacracyOne and awareness sessions have been conducted for all employees. Initial circles and roles have been defined and governance/technical meetings have started. More info: www.holacracy.org Evolving to Holacracy Workshop - Introduction Session.pdf Holacracy-Glossary.pdf
B31: Happiness Toolbox | C31: How to practice emotional hygiene, boost emotional resilience and learn alternative ways to deal with the inevitable ups and downs of life. Toolbox shows that there is a way to avert self-defeating behaviours by fostering the innate strength and resilience. More Info: https://dovetaillearning.org/ http://people.rice.edu/uploadedFiles/People/TEAMS/Succeeding%20as%20a%20Manager-%20Five%20Ways%20to%20Build%20a%20Resilient%20Team.pdf
B32: For the complete list of initiatives refer to II&BP worksheet
A34: Evaluate | B34: What was found/learnt from a thorough analysis of project outcomes? Eg. Findings from a cost/benefit analysis, post-project discussion on what went well and could be improved? | C34: Where can more information be found about this? Describe relevant documents/worksheets/reports | D34: Date updated
B35: 12-16 June 2016 Spot survey results Anonymous spot survey to monitor employees engagement in the wellbeing program and initiatives, which are built around the 5 pillars (Keep Learning, Take Notice, Keep Active, Connect, Give) | C35: Refer to: Spot survey results.pptx | D35: 44256

Sheet II&BP
A1: Improvement Ideas & Best Practice (II&BP) Form for a project on Innovative Prevention Program to Combat diabetes
A3: Record improvement ideas or best practices that you find as you proceed through the benchmarking project. To assess whether or not to recommend an idea or best practice for implementation you can complete the "Ease of implementation" and "Impact on project aim and objectives" columns. Alternatively you can assess the ideas or best practices through the "Best Practice Selection Matrix", BPSM Worksheet, which enables you to compare the ideas and practices graphically.
E5: Ease of implementation (Consider time, cost feasibility, 5=Very Easy, 4=Relatively Easy, 3=Possible, 2=Difficult, 1=Very Difficult) | F5: Impact on project aim and objectives (5=Major, 4=High 3=Medium, 2=Low, 1=Negligible) | G5: The Ease / Impact Score Column gives a score out of 10 with a higher weighting for "impact" in comparison to "ease". This ratio can be changed dependent on the importance of these criteria to the benchmarking project.
A7: Date | B7: Name of improvement idea and/or best practice | C7: Description (how will such a idea/practice improve on the current situation?) | D7: Expected benefits? | G7: Ease / Impact Score (with Impact given a higher weighting 6:4) | H7: Where/who can provide more information on this idea/practice? Reference any information documents as appropriate. | I7: Should this idea/practice be Parked (P) for later review or Actioned (A) immediately?
A8: 43952 | B8: general public awareness about common medical problems | C8: Gestational DM, obesity, | D8: reduce pregnancy complications, reduce non-communicable diseases | E8: Low | F8: 1 month | G8: Moderate | I8: P
A9: 43952 | B9: Smart Health Education Applications | C9: Using education materials through applications | D9: increased awareness among the community | E9: High | F9: 6 months | G9: High | H9: https://zipongo.com/blog/category/nutrition-health/diabetes/ | I9: A
A10: 43952 | B10: Happiness survey | C10: Generalized to all Gov. departments especially the employees | D10: Increased employee happiness and satisfaction | E10: Low | F10: 6 months | G10: Moderate | I10: P
A11: 43952 | B11: Stress Management group sessions | C11: Stress Management assessment & intervention 45 Min | D11: Reduce mental health burdens related to stress | E11: Medium | F11: 3 months | G11: Moderate | I11: P
A12: 43952 | B12: Happiness prescribing for school students & adults | C12: To reduce obesity in children and adults | D12: Reduce non-communicable diseases prevalence among school students | E12: High | F12: 2 years | G12: High | H12: http://www.hse.ie/eng/services/list/4/Mental_Health_Services/NOSP/Research/socialprescribing.pdf | I12: P
A13: 43952 | B13: Support groups sessions | C13: support groups in different area for NCDs & risk factors | D13: Increase awareness among community on non-communicable diseases, | E13: High | F13: 3 months | G13: Moderate | I13: P
A14: 43952 | B14: Volunteering programs for staff & community participation in the health awareness | C14: Community involvement in the heath awareness programs | D14: Increase scope of awareness campaigns and educate the community | E14: Low | F14: 6 months | G14: Low | I14: P
A15: 43952 | B15: New class medication for NCDs to be opened for family physicians | C15: Increase quality of patients care | D15: Increase the effectiveness of treatment | E15: High | F15: 2 Years | G15: High | I15: P
A16: 43952 | B16: Gym in health centres | C16: Employee health | D16: Increase physical activity among staff | E16: High | F16: 2 years | G16: High | H16: https://www.cdc.gov/diabetes/prevention/pdf/curriculum.pdf | I16: P
A17: 43952 | B17: Increase the number of health educators staff | C17: the increase need of health education in the community & clinics, therefore we need to increase the number of health educators staff | D17: Increase health education access and coverage in the community | E17: High | F17: 3 years | G17: High | H17: https://www.cdc.gov/diabetes/prevention/pdf/curriculum.pdf | I17: P
A18: 43952 | B18: happiness prescription for employee | C18: employee satisfaction | D18: Reduce non-communicable diseases prevalence among staff | E18: High | F18: 6 months | G18: High | H18: http://www.hse.ie/eng/services/list/4/Mental_Health_Services/NOSP/Research/socialprescribing.pdf | I18: P
A19: 44182 | B19: Smart Lifestyle applications | C19: The application will aim to change the communities’ current lifestyle to healthy lifestyle | D19: Reduce lifestyle factors that negatively affects the communities’ health | E19: High | F19: 6 months | G19: High | H19: https://zipongo.com/blog/category/nutrition-health/diabetes/ http://fitstar.com/ | I19: A
A20: 44182 | B20: Increase screening programs | C20: Early screening can detect diseases and health problems in early stages | D20: Reduce complications of diseases (e.g. diabetes) | E20: Moderate | F20: 1 year | G20: High | I20: A
A21: 44182 | B21: Improve/contribute to health promoting policy | C21: Health promoting policies encourages the community to practice healthy habits | D21: Reduce lifestyle factors that negatively affects the communities’ health | E21: Low | F21: 2 years | G21: High | I21: A
A22: 44232 | B22: Encourage periodic examination | C22: Insurance companies adopt the principle of conducting a medical examination | D22: Early detection of diseases | E22: Low | F22: 2 years | G22: High | H22: Health insurance companies | I22: P
A23: 44232 | B23: Teaching the community how to cook healthy food | C23: Programs for preparing healthy food and educating girls in schools | D23: Reduce lifestyle factors that negatively affects the communities’ health | E23: High | F23: 6 months | G23: High | H23: Tv stations | I23: A
A24: 44232 | B24: Stickers on food that contain food ingredients | C24: A summary of ingredients and calories | D24: Empower community for healthy choices | E24: High | F24: 1 year | G24: High | H24: Department of Economy | I24: A
A25: 44232 | B25: Organizing medical conferences on the prevention of diabetes | C25: Educating doctors about health programs | D25: Increase the effectiveness of treatment | E25: High | F25: 6 months | G25: High | H25: National Health Authority | I25: A
A26: 44232 | B26: Conducting workshops for healthy living | C26: Engage the community with ideas and the ways to implement them | D26: Reduce lifestyle factors that negatively affects the communities’ health | E26: Moderate | F26: 6 months | G26: High | I26: A
A27: 44232 | B27: Introduce the food portion system in schools | C27: Educate students about food portions in schools | D27: Reduce lifestyle factors that negatively affects the communities’ health | E27: High | F27: 1 year | G27: High | H27: Department of Education | I27: A
A28: 44232 | B28: Create pedestrian routes | C28: Encourage physical activity and exercise | D28: Increase physical activity in the community | E28: High | F28: 2 years | G28: High | I28: P
A29: 44232 | B29: Activity measuring devices | C29: There are devices for tracking physical activity which are linked to an electronic account, these devices later shows all your achievements | D29: Reduce lifestyle factors that negatively affects the communities’ health | E29: High | F29: 6 months | G29: High | H29: Fitbit, Samsung health | I29: A
A30: 44232 | B30: Health Legislation | C30: force restaurants to provide a clear water option along with soft drinks | D30: Reduce lifestyle factors that negatively affects the communities’ health | E30: Moderate | F30: 2 years | G30: Low | I30: P
A31: 44232 | B31: Healthy food applications | C31: Collaborate with popular delivery mobile applications to provide an additional tab to order healthy meals | D31: Reduce lifestyle factors that negatively affects the communities’ health | E31: Moderate | F31: 1 year | G31: High | I31: P
A32: 44232 | B32: Creating a culture targeting healthy people (awareness, education, rehabilitation) for different age groups free of disease. | C32: Change the pattern of thinking and current bad habits with a healthier lifestyle and good habits. | D32: Reduce lifestyle factors that negatively affects the communities’ health | E32: High | F32: 1 year | G32: High | I32: A
A33: 44232 | B33: Create a supportive work environment for health | C33: Support from decision makers: for example: If the managers will change their lifestyle in work to a healthy style it could positively impact their employees | D33: Increase physical activity among staff | E33: Low | F33: 1 year | G33: High | H33: google case study | I33: A
A34: 44232 | B34: Creating a motivational environment for students | C34: Allocate time for the employee to exercise as well as provide sport equipment at work. - Use the work environment to create a healthy and lovable environment. | D34: Increase physical activity among staff | E34: High | F34: 1 year | G34: High | I34: A
A35: 44232 | B35: Know the current status of risk factors based on geographical regions to address the risks and establish priorities, policies and strategies. | C35: Survey and assessment of the population to study the situation. | D35: Reduce lifestyle factors that negatively affects the communities’ health | E35: High | F35: 1 year | G35: High | I35: A
A36: 44232 | B36: Develop policies for unhealthy foods | C36: Raise the costs of advertising or prevent the circulation of advertisements for unhealthy foods. - Providing healthy eating in supermarkets - Reordering food so that unhealthy foods are not visible and not accessible, for example in the upper shelves in the shops. . | D36: Reduce lifestyle factors that negatively affects the communities’ health | E36: High | F36: 1 year | G36: High | I36: A
A37: 44232 | B37: Promote healthy environment in the community | C37: Through awareness of the community, schools and workplaces. • Reading food labels on meals. • Provide walkways and sports gardens. | D37: Reduce lifestyle factors that negatively affects the communities’ health | E37: High | F37: 1 year | G37: High | H37: Schools and Universities | I37: A
A38: 44232 | B38: Creating a healthy environment in the workplace | C38: • Provide sports areas in the workplace. • Provide special discounts for employees in sports clubs and healthily restaurants. | D38: Reduce lifestyle factors that negatively affects the communities’ health | E38: High | F38: 1 year | G38: High | H38: Municipality & Health clubs | I38: P
A39: 44232 | B39: To make/adjust application forms from schools and universities to include a periodic screening for students | C39: Periodic screening blood glucose in schools and universities through the school and university clinics. | D39: Early detection of diseases | E39: High | F39: 1 year | G39: High | H39: School Health units | I39: A
A40: 44232 | B40: Increase Health Awareness Campaigns | C40: Implement awareness campaigns and health education sessions that target schools, universities and clubs Early detection of obesity through these awareness campaigns | D40: Increase awareness among community on non-communicable diseases, | E40: High | F40: 1 year | G40: High | H40: Sports Council, Municipality, Department of Health & Prevention | I40: A
A41: 44232 | B41: Activate the role the media in promoting health to prevent disease | C41: Promoting health messages from NHA to all government authorities. Involve social media influencers | D41: Increase awareness among community on non-communicable diseases, | E41: Moderate | F41: 1 year | G41: High | H41: Sports Council, Municipality, National Health Authority | I41: A
A42: 44232 | B42: Lifestyle and motivational programs for healthy living | C42: Change the behaviours of the community and promote a healthy lifestyle. The development of a curriculum in schools for the different educational stages related to health education | D42: Increase awareness among community on non-communicable diseases, | E42: High | F42: 1 year | G42: High | H42: Department of Education All government authorities | I42: A
A43: 44232 | B43: Indoor activity facilities in public parks | C43: Encourage physical activity and exercise during summer | D43: Increase physical activity | E43: High | F43: 1 year | G43: High | H43: Municipality & Health clubs | I43: P
...

Sheet TOR-T
A1: TERMS OF REFERENCE (TOR) - TASKS for a project on Call Centre Improvement
A3: Steps | B3: Tasks (what do you need to do to complete the step?) | C3: Person(s) undertaking task? | D3: Expected man hours involved? | E3: Expected Costs | H3: Person that ensures task is completed | I3: Planned Start Date | J3: Planned Finish Date | K3: Actual Finish Date | L3: Actual Benefits obtained | N3: Actual man hours taken? | O3: Actual Costs | R3: Comments or Key Findings
E4: Labour | F4: Expenses | G4: Capital | L4: Non-Financial | M4: Financial | O4: Labour | P4: Expenses | Q4: Capital
A5: 1.1 Determine area of focus for benchmarking project | B5: Chris supplied | C5: N.A. | D5: 0 | E5: =D5*CA!$H$3 -> 0 | F5: 0 | G5: 0 | H5: Team leader | I5: N.A. | J5: N.A. | K5: 43840 | O5: =N5*CA!$H$3 -> 0 | P5: 0 | Q5: 0 | R5: Chris supplied
A6: 1.2 Develop project brief | B6: Chris developed Aim, Scope and Background | C6: N.A. | D6: 0 | E6: =D6*CA!$H$3 -> 0 | F6: 0 | G6: 0 | H6: Team leader | I6: N.A. | J6: N.A. | K6: 43840 | N6: 0 | O6: =N6*CA!$H$3 -> 0 | P6: 0 | Q6: 0 | R6: Chris supplied
A7: 1.3 Form project team | B7: Chris formed | C7: N.A. | D7: 0 | E7: =D7*CA!$H$3 -> 0 | F7: 0 | G7: 0 | H7: Team leader | I7: N.A. | J7: N.A. | K7: 43840 | O7: =N7*CA!$H$3 -> 0 | Q7: 0 | R7: Chris supplied
A8: 1.4 Train project team | B8: Plan benchmarking training for the 14 Jan | C8: Craig | D8: 1 | E8: =D8*CA!$H$3 -> 105 | F8: 5000 | G8: 0 | H8: Administrator | J8: 43844 | K8: 43844 | N8: 1.5 | O8: =N8*CA!$H$3 -> 157.5 | P8: 5000 | Q8: 0 | R8: Training completed
A9: 1.5 Understand benchmarking code of conduct | B9: Organise team to sign code of conduct | C9: Phil | D9: 0 | E9: =D9*CA!$H$3 -> 0 | F9: 0 | G9: 0 | H9: Team leader | J9: 43844 | K9: 43844 | N9: 0 | O9: =N9*CA!$H$3 -> 0 | P9: 0 | Q9: 0 | R9: Code signed & copies put on file
A10: 1.6 Prepare Terms of Reference (TOR) | B10: Draft Terms of Reference (Objectves, Stakeholders, Project benefits, Risks) | C10: Phil | D10: 16 | E10: =D10*CA!$H$3 -> 1680 | F10: 0 | G10: 0 | H10: Team leader | I10: 43113 | J10: 43844 | K10: 43844 | N10: 16 | O10: =N10*CA!$H$3 -> 1680 | P10: 0 | Q10: 0 | R10: TOR and Tasks need to be prepared together
A11: 1.7 Develop documentation system | B11: Agree documentation system | C11: Craig | D11: 0 | E11: =D11*CA!$H$3 -> 0 | F11: 0 | G11: 0 | H11: Administrator | I11: 43117 | J11: 43851 | K11: 43849 | N11: 0 | O11: =N11*CA!$H$3 -> 0 | P11: 0 | Q11: 0 | R11: Agreed system setup on O: drive
B12: Set up Dropbox folder and invite members | C12: Johnny | D12: 1 | E12: =D12*CA!$H$3 -> 105 | F12: 0 | G12: 0 | H12: Administrator | I12: 43121 | J12: 43851 | K12: 43849 | N12: 0.2 | O12: =N12*CA!$H$3 -> 21
A13: 1.8 Review project progress and TOR | B13: TRADE Terms stage review meeting | C13: Phil | D13: 5 | E13: =D13*CA!$H$3 -> 525 | F13: 0 | G13: 0 | H13: Team leader | I13: 43117 | J13: 43851 | K13: 43851 | N13: 3 | O13: =N13*CA!$H$3 -> 315 | P13: 0 | Q13: 0
A14: 1.9 Obtain approval to start the next stage of TRADE | B14: Presentation to Sponsor | C14: Team, 5 people + sponsor, 1 hr | D14: 6 | E14: =D14*CA!$H$3 -> 630 | F14: 0 | G14: 0 | H14: Team leader | I14: 43124 | J14: 43858 | K14: 43858 | N14: 12 | O14: =N14*CA!$H$3 -> 1260 | P14: 0 | Q14: 0
A15: TOTALS | D15: =SUM(D5:D14) -> 29 | E15: =SUM(E5:E14) -> 3045 | F15: =SUM(F5:F14) -> 5000 | G15: =SUM(G5:G14) -> 0 | M15: =SUM(M5:M14) -> 0 | N15: =SUM(N5:N14) -> 32.7 | O15: =SUM(O5:O14) -> 3433.5 | P15: =SUM(P5:P14) -> 5000 | Q15: =SUM(Q5:Q14) -> 0

Sheet TOR (example 1)
A1: TERMS OF REFERENCE (TOR) FORM for a project on Innovative Statistics
A3: Organisation: | B3: National Statistics Centre (NSC) | F3: Last Date Revised: | H3: 44468
A5: Project Name: | B5: Innovative Statistics
A7: Project Sponsor and Team Members
A8: Name | B8: Position | C8: Telephone | D8: Email | H8: Project Role
A9: F. Taylor | B9: CEO | H9: Project Sponsor
A10: D. Miller | B10: Director - Strategy & Corporate Governance Office | H10: Project Team Leader
A11: A. Lee | B11: Head -Strategy & Corporate Excellence | H11: Project Benchmarking Facilitator
A12: J. Kelly | B12: Specialist - Quality Systems and Corporate Excellence | H12: Project Team Member
A13: A. Stewart | B13: Head - Corporate Communication & Media | H13: Project Team Member
A14: A. Hernandez | B14: Senior Project Management Executive - PMO | H14: Project Team Member
A15: L. Bell | B15: Head - Creativity & Innovation | H15: Project Administrator
A17: Document Revision History | I17: Project Sponsor
A18: Version | B18: Date | C18: File name | E18: Revision Notes - Reason for change | I18: Reviewed? Yes/No
A19: 1 | B19: 44054 | C19: TRADE 2020.08.11 | E19: Cost estimated for TOR Task Sheet Only | I19: Yes
A20: 2 | B20: 44176 | C20: TRADE 2020.12.11 | E20: Cost estimated for TOR & Review Task Sheets | I20: Yes
A21: 3 | B21: 44209 | C21: TRADE 2021.01.13 | E21: Conducted Review Stage again and implement additional Innovation Maturity self-assessment questionnaire involving 82 employees Change proposed start and finish date of Acquire, Deploy and Evaluate Stages Expected Cost is estimated for TOR, Research Task (1&2) & Acquire Stages | I21: Yes
A22: 4 | B22: 44313 | C22: TRADE 2021.04.27 | E22: Add a member to the team Changes on: - Objective 3, 4 & 5 to be more specified - Expected benefits (Added a benefits related to Innovation Management Standard) - Expected Cost for each stage - Stakeholders (Added Vendors) - Proposed finish date of Acquire Stage | I22: Yes
A23: 5 | B23: 44377 | C23: TRADE 2021.06.30 | E23: Updated Deploy-T, II&BP | I23: Yes
A24: 6 | B24: 44468 | C24: TRADE 2021.09.29 | E24: Updated the financial benefits | I24: Yes
A25: Aim Describe the purpose of the project in one sentence e.g. "To identify & implement best practices in X to improve performance from Y to Z" | B25: To identify best practices in Innovation to enable NSC to develop and implement a strategy for innovation to improve its process and services
A27: Scope What Is included & excluded from the project? Clearly define the boundaries of the project & any time-line/resource constraints | B27: The benchmarking project will include: A) Developing an appropriate Innovation Strategy for NSC Creativity & Innovation Unit. B) Implementing parts of the Innovation Strategy within the time-frame of the project addressing the identified areas (Leadership, Strategic Planning, People, Culture, Processes, Tools and Techniques, Training, Facilities, Idea capture, Idea management and Metrics) through an innovation maturity self-assessment and improving the following: 1. People (Culture): - Awareness of NSC employees and Customers about the importance of innovation 2. Processes: - NSC Process & Services - Idea Management Processes (Suggestions & Complaints) - Innovation Labs and Brain Storming Sessions - Intellectual Property Process 3. Technology: - Suggestions & Complaints Management Systems C) Investigating innovative methods which assist NSC to provide statistical information in a more appealing way (Increase the use of NSC statistical information)
A29: Background Why is the project needed? What are the challenges/ opportunities? Who determined the need? | B29: Our main responsibilities are collecting, analysing and disseminating statistics about the national economy, society and population. NSC established Creativity & Innovation Unit to implement government’s vision and strategy to be aligned with other government departments. The term innovation is new not only in the government but also internationally where there is no certain guideline to follow when establishing and Innovation Strategy and it varies in content from one source to another. In addition, the government is more focused on developing and training departments and employees on federal level. Therefore, NSC wants to be a pioneer in implementing a proper innovation management system which aims to improve and raise the standard of its core business (Statistics) by learning from benchmarking partners and identifying the best practices which is applicable to its field. Due to the importance of innovation in raising the performance of an entity, NSC included it as one of its strategic goals which drives the development of it processes and services. However, statistics field is restricted with specific criteria, formulas and confidentiality, as the data gathered and measured depends on international standards. Nevertheless it is very crucial for NSC develop innovative methods and initiatives to overcome the strategic challenges and raise the awareness of beneficiaries about the importance of statistics in making the right decisions that leads to sustainable economic growth.
A32: Objectives Include SMART objectives with at least one objective per TRADE stage as well as outcome objectives to be measured in the Evaluate stage | B32: Objective 1 - Include the benchmarking project to be as part of Establishment of Creativity & Innovation Unit Project Plan under NSC Projects for the year 2020/2021, in addition to decide and obtain sign off on the Terms of Reference by 8th November 2020
B33: Objective 2 - Review, assess and analyse Innovation Management Maturity Level by 13th January 2021
B34: Objective 3 - Identify best practices in Innovation Management & Innovation Management Standard Implementations (Informal & Formal) by 12th May 2021
B35: Objective 4 - Start implementing quick wins of innovative statistics by Jun 2021
B36: Objective 5 - Implement the initiatives related to Innovation Management & Innovation Management Standard by 28th August 2021
B37: Objective 6 - Evaluate the outcomes of the project with an expected increase in Innovation Management Maturity Level from Level 2 to Level 4 by end of the project and to be Innovation Management Standard Certified by 29th September 2021
A39: Expected Non-Financial Benefits What problems /challenges/ opportunities and performance levels do you expect improvements in? What are the benefits for your stakeholders? Ideally the benefits should be quantifiable showing current performance (and date measured) and expected future performance (by a stated date). | E39: Expected Financial Benefits For every non-financial benefit there is a potential financial benefit. Financial benefits should be shown as monetary values otherwise include in the non-financial column. Financial benefits for your stakeholders may be included.
A40: o Develop & implement Innovation Management Strategy | E40: o Increased use of statistical information by stakeholders leading to better decisions and significant financial benefits to the economy. Such as better planning for the required infrastructure and public services in the next 5 years. o Saving cost of hiring a consultant company to prepare Innovation Strategy Management (Around $50,000).
A41: o Raise level of innovation management maturity level from 53.7% in Jul 2020 (IMS Checklist Rating: Sporadic) to Good or Excellent | E41: o Embedding a culture of innovation DSC is expected to increase staff productivity by 7%
A42: o Improve NSC processes and services | E42: o For meantime no direct financial benefits is measured from project implementation, however, revenue generating and cost reduction will be considered when implementing innovative ideas as it is the main goal of our project. o Increase in number of suggestions by 50% will result in $103k (as a result of more efficient processes and additional services).
A43: o Raising awareness of employees and customers and increase number of suggestions from 186 per month in 2020 to 280 per month in 2021.
A44: o Identify & Implement creative thinking tools to be used in Innovation Labs and Brainstorming Workshops. | E44: o Improving quality of suggestions will result in higher financial gains as well. In 2020, the financial benefit of the suggestions was $68k, a 20% improvement in the quality of suggestions will result in $13600 increase, total of $81.6k.
A45: o Upgrading the suggestions and complains management systems to a state-of-art system.
A46: o Raise number of innovations implemented within the organization by 30%.
A47: o Implement Innovation Management Standard Stages which covers all the gaps and will make the department the 1st in the country to apply the standard. | E47: o Using the standard and its audit will save time as a result of faster identification of gaps, which in turn will lower the project cost.
A49: Expected Cost Completing the cost items in the TRADE-T worksheets will generate a Cost Analysis (CA) worksheet that can assist in estimating the cost items below. | G49: A. Expected Financial Cost (excluding Deploy Stage) | I49: B. Expected Financial Cost of Deploy Stage
A50: Labour - Estimate the number of man hours that need to be invested in the project by your project team and other staff and multiply by an appropriate hourly pay rate | G50: 287280 | I50: 25000
...

Sheet SA
A1: Stakeholder Analysis form for a project on Baggage Security
A3: Stakeholder Analysis is a useful tool for identifying the importance of the stakeholder to the project. This tool should be used in conjunction with the Communication Plan. Normally, the more important the stakeholder the more frequent the communication should be.
A5: Stakeholder Name | B5: Contact Person | C5: Impact | D5: Influence | E5: What is important to the stakeholder? | F5: How could the stakeholder contribute to the project? | G5: How could the stakeholder block the project? | H5: Strategy for engaging the stakeholder
B6: Phone, Email, Website, Address | C6: How much does the project impact them? (Low, Medium, High) | D6: How much influence do they have over the project? (Low, Medium, High)
A7: Civil Aviation Authority | C7: Low | D7: Medium | E7: Adhere to the international rules and regulations of air safety | F7: Provide required assistance to the project team with regards to civil aviation international rules and regulation | G7: Project requires standardisation of the process by Civil Aviation Authority as they are responsible for implementation of security and safety policies of Aviation Sector | H7: Scheduled Meeting and Emails
A10: Local Airport | C10: High | D10: High | E10: Perfect every passenger journey into a seamless flow and challenge convention to shape a new level in performance and agility | F10: Provide infrastructural and operational support to project team in executing Best Practices identified | G10: Unavailability of infrastructure, or not providing data | H10: Scheduled Meeting and Emails
A13: Airline Companies | C13: High | D13: High | E13: Reduce operational expenses and provide world class services to their customers | F13: Acts as a communication link between passengers and airport authorities and spread awareness regarding implementation of new procedures in the Airport | G13: Inability to reach MOU with the Airport regarding rights and responsibilities of each side | H13: Scheduled Meeting and Emails
A16: Passengers | C16: Medium | D16: Low | E16: Changes in the rules and regulations regarding the authority to the Police to open the bags without calling the passenger. | F16: Sample of the passengers will answer short survey The promotional campaign will target the passengers Adhere to the rules and regulations | G16: The passengers can't block the project, but with low participation, they can affect project success. | H16: Social Media, Surveys and Promotional Campaigns
A19: Benchmarking Partners | C19: Low | D19: Low | E19: Learn about the best practice and difficulties when implementing them. | F19: Source of learning | G19: Sometime the benchmarking partners don't share all the information, as it might affect their image. | H19: Emails, Social Media, Promotional Campaigns, Surveys and Site Visits, adhering to Benchmarking code of Conduct.

Sheet ComP
A1: Communication Plan for a Project on Innovative Statistics
A3: Record how you will involve your project stakeholders throughout the project
A5: TRADE Stage | B5: Name of stakeholder | C5: What needs to be communicated or discussed? | D5: Why? | E5: Method of communication? Email, meeting, focus group, phone call, meeting etc. | F5: Deliverable? Document, report, TOR, agenda, slides etc. | G5: When or how often? | H5: Responsibility?
A6: Terms of Reference
A7: T | B7: NSC Leaders | C7: Brief about the Innovative Statistics Project and TRADE Methodology | D7: Provide support to the project and assign project team members | E7: Meeting | F7: TOR | G7: Once | H7: A. Lee J. Kelly
B8: Project Sponsor | C8: Latest update of project progress | D8: Project sponsor will provide support | E8: Meeting | F8: TRADE Spreadsheet and supporting documents | G8: Bi-Weekly | H8: J. Kelly
B9: NSC Employees | C9: Circulate an article about the latest progress of the project in the monthly newsletter | D9: Raise awareness about the project | E9: Email/Social Media | F9: Article in the newsletter, and internal website (Intranet) | G9: Once per month | H9: A. Hernandez
A11: Review
A12: R | B12: NSC Employees | C12: Innovation Maturity (Organisational-Wide) Self-Assessment (82 employees) | D12: Involve employees in the project and raise awareness and ownership | E12: e-Survey | F12: Survey Results Report | G12: Beginning of the project | H12: A. Stewart A. Hernandez J. Kelly
B13: NSC Employees | C13: discussing the findings of Innovation Maturity self-assessment | D13: Getting the employees feedback, raising awareness and ownership | E13: Focus group | F13: Presentation slides and summary report | G13: After finalising the results | H13: A. Lee | I13: x
B14: NSC Employees | C14: Circulate an article about the latest progress of the project in the monthly newsletter | D14: Raise awareness about the project | E14: Email/Social Media | F14: Article in the newsletter, and internal website (Intranet) | G14: Once per month | H14: A. Hernandez
B15: NSC Customers | C15: Publish an article about the project | D15: Raise awareness about the project | E15: Newspaper/Social Media | F15: Article in the Newspaper, posts in the social media | G15: Posting about the important milestones in the newspaper, regular update in the social media accounts. | H15: A. Hernandez
B16: Project Sponsor | C16: Latest update of project progress | D16: Project sponsor will provide support | E16: Meeting | F16: TRADE Spreadsheet and supporting documents | G16: Bi-Weekly | H16: J. Kelly
B17: Senior Executives | C17: The latest update of project progress and the findings of Review stage | D17: For successful change management and closing the gaps we need the support senior executives | E17: Meeting | F17: Presentation slides and TRADE Spreadsheet | G17: At the end of Review stage | H17: A. Stewart
A18: Acquire
A19: A | B19: NSC Vendors | C19: Request for proposal raised by NSC through Procurement System | D19: Raise proposals about the services and prices provided by vendors and select the best offer | E19: Procurement System Emails Meetings | F19: Technical & Financial Proposals | G19: Weekly for two months | H19: L. Bell D. Howard
B20: NSC Benchmarking Partners | C20: Background of the project and benchmarking requirements | D20: Learn from their best practices | E20: Emails Internet Research Field Visits | F20: Findings Report | G20: Based on need | H20: Project Team Members
B21: Project Sponsor | C21: Latest update of project progress | D21: Project sponsor will provide support | E21: Meeting | F21: TRADE Spreadsheet and supporting documents | G21: Bi-Weekly | H21: J. Kelly
B22: NSC Employees | C22: Circulate an article about the latest progress of the project in the monthly newsletter | D22: Raise awareness about the project | E22: Email/Social Media | F22: Article in the newsletter, and internal website (Intranet) | G22: Once per month | H22: A. Hernandez
B23: NSC Customers | C23: Publish an article about the project | D23: Raise awareness about the project | E23: Newspaper/Social Media | F23: Article in the Newspaper, posts in the social media | G23: Posting about the important milestones in the newspaper, regular update in the social media accounts. | H23: A. Hernandez
B24: Senior Executives | C24: Discussing the latest update of project progress and the recommendations for Deploy stage | D24: Some of the recommendations will require authorising from the senior executives for implementation | E24: Meeting | F24: Presentation slides and TRADE Spreadsheet | G24: At the end of Acquire stage | H24: A. Stewart
A26: Deploy
A27: D | B27: NSC Vendors | C27: Documents related to current status of Innovation Management Standard (TS 16555) parts | D27: Analyse the current status and raise gap analysis report raised the vendor | E27: Emails Field visits/Meetings | F27: * Gap analysis report of Innovation Management Standard * Fulfilment of guideline requirements | G27: Monthly | H27: J. Kelly L. Bell D. Howard
B28: NSC Leaders | C28: TS 16555 parts & guidelines | D28: Raise awareness about the TS 16555 guidelines | E28: Progress Meetings Emails Focus Groups Survey | F28: Maturity Level Assessment report of TS 16555 guidelines | G28: Annually | H28: J. Kelly L. Bell D. Howard
B29: NSC Employees | G29: Bi-Weekly
B30: NSC Benchmarking Partners | C30: Challenges may face the team while implementing TS 16555 parts | D30: Provide support and information to overcome challenges | E30: Emails Field Visits Phone Call | F30: Project Progress Report Findings Report | G30: Based on need | H30: Project Team Members
B31: NSC Customers | C31: Publish an article about the project | D31: Raise awareness about the project | E31: Newspaper/Social Media | F31: Article in the Newspaper, posts in the social media | G31: Posting about the important milestones in the newspaper, regular update in the social media accounts. | H31: A. Hernandez
B32: NSC Customers | C32: Clauses of IMS TS 16555 related to customers | D32: Involvement and participation of customers to meet and exceed their requirements | E32: Surveys Phone Calls Emails Focus Groups | F32: Customer Feedback Report | G32: Based on need | H32: Project Team Members
B33: NSC Strategy & Corporate Excellence Office | C33: Documentation required to meet IMS guidelines | D33: Align the processes and policies with NSC procedure/methodology | E33: Meetings Emails | F33: KPI's Report from PMO Policies & Procedures | G33: Based on need | H33: Project Team Members
B34: Project Sponsor | C34: Latest update of project progress | D34: Project sponsor will provide support | E34: Meeting | F34: TRADE Spreadsheet and supporting documents | G34: Bi-Weekly | H34: J. Kelly
B35: NSC Employees | C35: Circulate an article about the latest progress of the project in the monthly newsletter | D35: Raise awareness about the project | E35: Email/Social Media | F35: Article in the newsletter, and internal website (Intranet) | G35: Once per month | H35: A. Hernandez
B36: Senior Executives | C36: Discussing the latest update of project progress and the recommendations for Deploy stage | D36: Some of the recommendations will require authorising from the senior executives for implementation | E36: Meeting | F36: Presentation slides and TRADE Spreadsheet | G36: At the end of Acquire stage | H36: A. Stewart
A38: Evaluate
A39: E | B39: NSC Vendors | C39: IMS TS 16555 implementation progress | D39: Evaluation of NSC level in the implementation of TS 16555 | E39: Emails Field visits/Meetings | F39: TS 16555 Certification | G39: End of the project | H39: J. Kelly L. Bell D. Howard
B40: NSC Employees | C40: Innovation Maturity (Organisational-Wide) Self-Assessment (82 employees) | D40: Involve employees in the project and raise awareness and ownership | E40: e-Survey | F40: Survey Results Report | G40: End of the project | H40: A. Stewart A. Hernandez J. Kelly
B41: NSC Employees | C41: discussing the findings of Innovation Maturity self-assessment post implementation | D41: Getting the employees feedback, raising awareness and ownership | E41: Focus group | F41: Presentation slides and summary report | G41: After finalising the results | H41: A. Lee
B42: NSC Strategy & Corporate Excellence Office | C42: Innovative Statistics Project progress IMS TS 16555 implementation progress | D42: Evaluate project progress based on PMP | E42: Emails Meetings | F42: Project Plan Progress Report | G42: End of the project | H42: Project Team Members
B43: NSC Leaders | C43: Innovative Statistics Project Progress | D43: Evaluate the project | E43: Emails Meeting Progress Sharing Day | F43: Evaluation Report | G43: End of the project | H43: Project Team Members
B44: Project Sponsor | C44: Latest update of project progress | D44: Project sponsor will provide support | E44: Meeting | F44: TRADE Spreadsheet and supporting documents | G44: Bi-Weekly | H44: J. Kelly
B45: NSC Employees | C45: Circulate an article about the latest progress of the project in the monthly newsletter | D45: Raise awareness about the project | E45: Email/Social Media | F45: Article in the newsletter, and internal website (Intranet) | G45: Once per month | H45: A. Hernandez
...

Sheet CA
A1: COST ANALYSIS (CA)
A3: Insert in the following box the average pay of your team members per hour: | H3: 105
A5: TRADE Stage | B5: Variance $ | F5: Expected Costs $ | J5: Actual Costs $ | N5: TOTAL Actual
B6: Man-hours | C6: Labour | D6: Expenses | E6: Capital | F6: Man-hours | G6: Labour | H6: Expenses | I6: Capital | J6: Man-hours | K6: Labour | L6: Expenses | M6: Capital
A7: Terms | B7: =F7-J7 -> -3.7 | C7: =G7-K7 -> -388.5 | D7: =H7-L7 -> 0 | E7: =I7-M7 -> 0 | F7: ='TOR-T'!D15 -> 29 | G7: ='TOR-T'!E15 -> 3045 | H7: ='TOR-T'!F15 -> 5000 | I7: ='TOR-T'!G15 -> 0 | J7: ='TOR-T'!N15 -> 32.7 | K7: ='TOR-T'!O15 -> 3433.5 | L7: ='TOR-T'!P15 -> 5000 | M7: ='TOR-T'!Q15 -> 0 | N7: =SUM(K7:M7) -> 8433.5
A8: Review | B8: =F8-J8 -> -28 | C8: =G8-K8 -> -2940 | D8: =H8-L8 -> 235 | E8: =I8-M8 -> 0 | F8: ='Review-T'!D15 -> 86 | G8: ='Review-T'!E15 -> 9030 | H8: ='Review-T'!F15 -> 270 | I8: ='Review-T'!G15 -> 0 | J8: ='Review-T'!N15 -> 114 | K8: ='Review-T'!O15 -> 11970 | L8: ='Review-T'!P15 -> 35 | M8: ='Review-T'!Q15 -> 0 | N8: =SUM(K8:M8) -> 12005
A9: Acquire | B9: =F9-J9 -> -59 | C9: =G9-K9 -> -6300 | D9: =H9-L9 -> -4373 | E9: =I9-M9 -> 0 | F9: ='Acquire-T'!D21 -> 217 | G9: ='Acquire-T'!E21 -> 22680 | H9: ='Acquire-T'!F21 -> 2500 | I9: ='Acquire-T'!G21 -> 0 | J9: ='Acquire-T'!N21 -> 276 | K9: ='Acquire-T'!O21 -> 28980 | L9: ='Acquire-T'!P21 -> 6873 | M9: ='Acquire-T'!Q21 -> 0 | N9: =SUM(K9:M9) -> 35853
A10: Deploy | B10: =F10-J10 -> 47 | C10: =G10-K10 -> 5565 | D10: =H10-L10 -> -2004 | E10: =I10-M10 -> -24754 | F10: ='Deploy-T'!D31 -> 345 | G10: ='Deploy-T'!E31 -> 30345 | H10: ='Deploy-T'!F31 -> 0 | I10: ='Deploy-T'!G31 -> 0 | J10: ='Deploy-T'!N31 -> 298 | K10: ='Deploy-T'!O31 -> 24780 | L10: ='Deploy-T'!P31 -> 2004 | M10: ='Deploy-T'!Q31 -> 24754 | N10: =SUM(K10:M10) -> 51538
A11: Evaluate | B11: =F11-J11 -> -2.5 | C11: =G11-K11 -> -472.5 | D11: =H11-L11 -> 0 | E11: =I11-M11 -> 0 | F11: ='Evaluate-T'!D9 -> 26.5 | G11: ='Evaluate-T'!E9 -> 2572.5 | H11: ='Evaluate-T'!F9 -> 0 | I11: ='Evaluate-T'!G9 -> 0 | J11: ='Evaluate-T'!N9 -> 29 | K11: ='Evaluate-T'!O9 -> 3045 | L11: ='Evaluate-T'!P9 -> 0 | M11: ='Evaluate-T'!Q9 -> 0 | N11: =SUM(K11:M11) -> 3045
A13: TOTALS | B13: =F13-J13 -> -46.2 | C13: =G13-K13 -> -4536 | D13: =H13-L13 -> -6142 | E13: =I13-M13 -> -24754 | F13: =SUM(F7:F11) -> 703.5 | G13: =SUM(G7:G11) -> 67672.5 | H13: =SUM(H7:H11) -> 7770 | I13: =SUM(I7:I11) -> 0 | J13: =SUM(J7:J11) -> 749.7 | K13: =SUM(K7:K11) -> 72208.5 | L13: =SUM(L7:L11) -> 13912 | M13: =SUM(M7:M11) -> 24754 | N13: =SUM(N7:N11) -> 110874.5
A15: Totals minus | B15: =B13-B10 -> -93.2 | C15: =C13-C10 -> -10101 | D15: =D13-D10 -> -4138 | E15: =E13-E10 -> 0 | F15: =F13-F10 -> 358.5 | G15: =G13-G10 -> 37327.5 | H15: =H13-H10 -> 7770 | I15: =I13-I10 -> 0 | ... N15: =N13-N10 -> 59336.5
A16: Deploy

Sheet Review-T
A1: REVIEW - TASKS for a project on Call Centre Improvement
A3: Steps | B3: Tasks (what do you need to do to complete the step?) | C3: Person(s) undertaking task? | D3: Expected man hours involved? | E3: Expected Costs | H3: Person that ensures task is completed | I3: Planned Start Date | J3: Planned Finish Date | K3: Actual Finish Date | L3: Actual Benefits obtained | N3: Actual man hours taken? | O3: Actual Costs | R3: Comments or Key Findings
E4: Labour | F4: Expenses | G4: Capital | L4: Non-Financial | M4: Financial | O4: Labour | P4: Expenses | Q4: Capital
A5: 2.1 Understand area of focus to be benchmarked | B5: Review call centre customer data | C5: Cathy, Latoya, Craig, Phil, Johnny | D5: 8 | E5: =D5*CA!$H$3 -> 840 | F5: 0 | G5: 0 | H5: Team Leader | I5: 43861 | J5: 43861 | K5: 43863 | N5: 7 | O5: =N5*CA!$H$3 -> 735 | P5: 0 | Q5: 0 | R5: Involved 3 call centre staff outside project team
B6: Design customer inteview questions | C6: Cathy, | D6: 5 | E6: =D6*CA!$H$3 -> 525 | F6: 0 | G6: 0 | H6: Team Leader | I6: 43861 | J6: 43861 | K6: 43865 | N6: 5 | O6: =N6*CA!$H$3 -> 525 | P6: 0 | Q6: 0
B7: Conduct customer interviews | C7: Craig, Phil, Johnny | D7: 10 | E7: =D7*CA!$H$3 -> 1050 | F7: 250 | G7: 0 | H7: Team Leader | I7: 43861 | J7: 43861 | K7: 43868 | N7: 12 | O7: =N7*CA!$H$3 -> 1260 | P7: 35 | Q7: 0
B8: Review call centre staff exit interviews | C8: Phil, Johnny | D8: 8 | E8: =D8*CA!$H$3 -> 840 | F8: 0 | G8: 0 | H8: Team Leader | I8: 43861 | J8: 43865 | K8: 43862 | N8: 7 | O8: =N8*CA!$H$3 -> 735 | P8: 0 | Q8: 0
B9: Map call centre process | C9: Cathy, Phil, Johnny | D9: 20 | E9: =D9*CA!$H$3 -> 2100 | F9: 20 | G9: 0 | H9: Team Leader | I9: 43861 | J9: 43865 | K9: 43892 | N9: 35 | O9: =N9*CA!$H$3 -> 3675 | P9: 0 | Q9: 0 | R9: Reworked process using value mapping
